Workbook

Sheet ベース
A1: 令和９年度用 | B1: 表簿・用紙申込書 | D1: 令和８年 月 日
A3: 商品番号 | B3: 商 品 名 | C3: 単価 | D3: 備 考
A4: 1001 | B4: 学校沿革誌 | C4: 5949 | D4: 100枚綴【右4穴】表紙・用紙セット
A5: 1001-1 | B5: 学校沿革誌表紙 | C5: 2149 | D5: 【右4穴】
A6: 1002 | B6: 園日誌（甲） | C6: 2873 | D6: 1日分1ページ
A7: 1003 | B7: 園日誌（乙） | C7: 2653 | D7: 1日分半ページ
A8: 1012 | B8: プール管理日誌（旧） | C8: 1431
A9: 1013 | B9: プール管理日誌（改訂版） | C9: 2431
A10: 1014 | B10: 文書収受処理簿 | C10: 2653 | D10: 暦年
A11: 1015 | B11: 文書収受配付簿 | C11: 2653 | D11: 暦年
A12: 1017 | B12: 文書発送簿 | C12: 2653 | D12: 暦年
A13: 1018 | B13: 学校医執務記録簿 | C13: 2541
A14: 1019 | B14: 学校歯科医執務記録簿 | C14: 2541
A15: 1020 | B15: 学校薬剤師執務記録簿 | C15: 2541
A16: 1021 | B16: 文書番号簿 | C16: 2653 | D16: 暦年
A17: 1022 | B17: 学校沿革誌用紙 | C17: 38 | D17: 用紙はマニラ仙貨【右4穴】
A18: 1127 | B18: 当 直 日 誌 | C18: 2873
A19: 1128 | B19: 防 火 日 誌 | C19: 2873
A20: 1129 | B20: 看 護 日 誌 | C20: 2674
A21: 1130 | B21: 保健日誌（小・中等） | C21: 2873 | D21: 出欠記録６学年
A22: 1131 | B22: 給 食 日 誌 | C22: 2873
A23: 1132 | B23: 学校日誌（小・中・義） | C23: 2873
A24: 1133 | B24: 保健日誌（中） | C24: 2873 | D24: 出欠記録３学年
A25: 1134 | B25: 学校日誌（高） | C25: 2873 | D25: 出欠記録３学年
A26: 1135 | B26: 当 直 日 誌 | C26: 2873
A27: 1136 | B27: 保健日誌（高等部） | C27: 2873 | D27: 欠席記録 無
A28: 1137 | B28: 学校日誌（中等教育学校） | C28: 2873 | D28: 出欠記録６学年
A29: 1150 | B29: 学校日誌 表紙（コンピュータ出力用） | C29: 531 | D29: 【左2穴】
A30: 1151 | B30: 当直日誌 表紙（コンピュータ出力用） | C30: 531 | D30: 【左2穴】
A31: 1152 | B31: 防火日誌 表紙（コンピュータ出力用） | C31: 531 | D31: 【左2穴】
A32: 1153 | B32: 看護日誌 表紙（コンピュータ出力用） | C32: 531 | D32: 【左2穴】
A33: 1154 | B33: 保健日誌 表紙（コンピュータ出力用） | C33: 531 | D33: 【左2穴】
A34: 1155 | B34: 給食日誌 表紙（コンピュータ出力用） | C34: 531 | D34: 【左2穴】
A35: 1156 | B35: プール管理日誌 表紙（コンピュータ出力用） | C35: 531 | D35: 【左2穴】
A36: 1157 | B36: 学校医執務記録簿 表紙（コンピュータ出力用） | C36: 531 | D36: 【左2穴】
A37: 1158 | B37: 学校歯科医執務記録簿 表紙（コンピュータ出力用） | C37: 531 | D37: 【左2穴】
A38: 1159 | B38: 学校薬剤師執務記録簿 表紙（コンピュータ出力用） | C38: 531 | D38: 【左2穴】
... A83: 4083 | B83: 横型〈男女別〉出席簿表紙 | C83: 590 | D83: 前付1枚付/令7凡例一部変更【A4横】【左4穴】
A84: 4085 | B84: 縦型〈男女混合〉出席簿用紙 | C84: 49
A85: 4086 | B85: 縦型〈男女混合〉出席簿表紙 | C85: 590 | D85: 前付1枚付/令7凡例一部変更【左4穴】
...

Sheet （幼稚園用）
A1: =ベース!A1 -> 令和９年度用 | C1: =ベース!B1 -> 表簿・用紙申込書 | J1: 茨城県教育会 記 入 欄 | Q1: =ベース!D1 -> 令和８年 月 日
N3: 立 | R3: 幼 稚 園
C4: （幼稚園用）
L5: 電話番号 | P5: 事務担当者名
A6: 電子メールでお申込みの場合この用紙にご入力して、添付ファイルで送信願います。
B7: 商品番号 | C7: 商 品 名 | D7: 単 価 | E7: 数 量 | F7: 金 額 | G7: 備 考 | K7: 商品番号 | L7: 商 品 名 | N7: 単 価 | O7: 数 量 | P7: 金 額 | Q7: 備 考
A8: １園の管理運営 | B8: 1001 | C8: =IF(B8="","",VLOOKUP($B8,ベース!A:D,2,FALSE)) -> 学校沿革誌 | D8: =IF(B8="","",VLOOKUP($B8,ベース!A:D,3,FALSE)) -> 5949 | F8: =IF(B8="","",D8*E8) -> 0 | G8: =IF(B8="","",VLOOKUP($B8,ベース!A:D,4,FALSE)) -> 100枚綴【右4穴】表紙・用紙セット | J8: ２教職員 | K8: 2031 | L8: =IF(K8="","",VLOOKUP($K8,ベース!A:D,2,FALSE)) -> 職員出勤簿用紙 | N8: =IF(K8="","",VLOOKUP($K8,ベース!A:D,3,FALSE)) -> 138 | P8: =IF(K8="","",N8*O8) -> 0 | Q8: =IF(K8="","",VLOOKUP($K8,ベース!A:D,4,FALSE)) -> 【B4横】【左4穴】
B9: 1001-1 | C9: =IF(B9="","",VLOOKUP($B9,ベース!A:D,2,FALSE)) -> 学校沿革誌表紙 | D9: =IF(B9="","",VLOOKUP($B9,ベース!A:D,3,FALSE)) -> 2149 | F9: =IF(B9="","",D9*E9) -> 0 | G9: =IF(B9="","",VLOOKUP($B9,ベース!A:D,4,FALSE)) -> 【右4穴】 | K9: 2033 | L9: =IF(K9="","",VLOOKUP($K9,ベース!A:D,2,FALSE)) -> 同表紙（ボール） | N9: =IF(K9="","",VLOOKUP($K9,ベース!A:D,3,FALSE)) -> 821 | P9: =IF(K9="","",N9*O9) -> 0 | Q9: =IF(K9="","",VLOOKUP($K9,ベース!A:D,4,FALSE)) -> 【B4横】【左4穴】
B10: 1022 | C10: =IF(B10="","",VLOOKUP($B10,ベース!A:D,2,FALSE)) -> 学校沿革誌用紙 | D10: =IF(B10="","",VLOOKUP($B10,ベース!A:D,3,FALSE)) -> 38 | F10: =IF(B10="","",D10*E10) -> 0 | G10: =IF(B10="","",VLOOKUP($B10,ベース!A:D,4,FALSE)) -> 用紙はマニラ仙貨【右4穴】 | K10: 2034 | L10: =IF(K10="","",VLOOKUP($K10,ベース!A:D,2,FALSE)) -> 同表紙（総クロス） | N10: =IF(K10="","",VLOOKUP($K10,ベース!A:D,3,FALSE)) -> 1802 | P10: =IF(K10="","",N10*O10) -> 0 | Q10: =IF(K10="","",VLOOKUP($K10,ベース!A:D,4,FALSE)) -> 【B4横】【左4穴】
B11: 1002 | C11: =IF(B11="","",VLOOKUP($B11,ベース!A:D,2,FALSE)) -> 園日誌（甲） | D11: =IF(B11="","",VLOOKUP($B11,ベース!A:D,3,FALSE)) -> 2873 | F11: =IF(B11="","",D11*E11) -> 0 | G11: =IF(B11="","",VLOOKUP($B11,ベース!A:D,4,FALSE)) -> 1日分1ページ | K11: 2035 | L11: =IF(K11="","",VLOOKUP($K11,ベース!A:D,2,FALSE)) -> 職員健康診断票 | N11: =IF(K11="","",VLOOKUP($K11,ベース!A:D,3,FALSE)) -> 76 | P11: =IF(K11="","",N11*O11) -> 0 | Q11: =IF(K11="","",VLOOKUP($K11,ベース!A:D,4,FALSE)) -> 【上2穴】
B12: 1003 | C12: =IF(B12="","",VLOOKUP($B12,ベース!A:D,2,FALSE)) -> 園日誌（乙） | D12: =IF(B12="","",VLOOKUP($B12,ベース!A:D,3,FALSE)) -> 2653 | F12: =IF(B12="","",D12*E12) -> 0 | G12: =IF(B12="","",VLOOKUP($B12,ベース!A:D,4,FALSE)) -> 1日分半ページ | K12: 2036 | L12: =IF(K12="","",VLOOKUP($K12,ベース!A:D,2,FALSE)) -> 同表紙 | N12: =IF(K12="","",VLOOKUP($K12,ベース!A:D,3,FALSE)) -> 531 | P12: =IF(K12="","",N12*O12) -> 0 | Q12: =IF(K12="","",VLOOKUP($K12,ベース!A:D,4,FALSE)) -> 【上2穴】
B13: 1127 | C13: =IF(B13="","",VLOOKUP($B13,ベース!A:D,2,FALSE)) -> 当 直 日 誌 | D13: =IF(B13="","",VLOOKUP($B13,ベース!A:D,3,FALSE)) -> 2873 | F13: =IF(B13="","",D13*E13) -> 0 | G13: =IF(B13="","",VLOOKUP($B13,ベース!A:D,4,FALSE)) -> 0 | K13: 2039 | L13: =IF(K13="","",VLOOKUP($K13,ベース!A:D,2,FALSE)) -> 週休日の振替え簿用紙 | N13: =IF(K13="","",VLOOKUP($K13,ベース!A:D,3,FALSE)) -> 49 | P13: =IF(K13="","",N13*O13) -> 0 | Q13: =IF(K13="","",VLOOKUP($K13,ベース!A:D,4,FALSE)) -> 【A4横】【上4穴】
B14: 1128 | C14: =IF(B14="","",VLOOKUP($B14,ベース!A:D,2,FALSE)) -> 防 火 日 誌 | D14: =IF(B14="","",VLOOKUP($B14,ベース!A:D,3,FALSE)) -> 2873 | F14: =IF(B14="","",D14*E14) -> 0 | G14: =IF(B14="","",VLOOKUP($B14,ベース!A:D,4,FALSE)) -> 0 | K14: 2040 | L14: =IF(K14="","",VLOOKUP($K14,ベース!A:D,2,FALSE)) -> 同表紙 | N14: =IF(K14="","",VLOOKUP($K14,ベース!A:D,3,FALSE)) -> 531 | P14: =IF(K14="","",N14*O14) -> 0 | Q14: =IF(K14="","",VLOOKUP($K14,ベース!A:D,4,FALSE)) -> 【A4横】【上4穴】
B15: 1129 | C15: =IF(B15="","",VLOOKUP($B15,ベース!A:D,2,FALSE)) -> 看 護 日 誌 | D15: =IF(B15="","",VLOOKUP($B15,ベース!A:D,3,FALSE)) -> 2674 | F15: =IF(B15="","",D15*E15) -> 0 | G15: =IF(B15="","",VLOOKUP($B15,ベース!A:D,4,FALSE)) -> 0 | K15: 2041 | L15: =IF(K15="","",VLOOKUP($K15,ベース!A:D,2,FALSE)) -> 休暇カード | N15: =IF(K15="","",VLOOKUP($K15,ベース!A:D,3,FALSE)) -> 49 | P15: =IF(K15="","",N15*O15) -> 0 | Q15: =IF(K15="","",VLOOKUP($K15,ベース!A:D,4,FALSE)) -> 暦年【上2穴】
B16: 1130 | C16: =IF(B16="","",VLOOKUP($B16,ベース!A:D,2,FALSE)) -> 保健日誌（小・中等） | D16: =IF(B16="","",VLOOKUP($B16,ベース!A:D,3,FALSE)) -> 2873 | F16: =IF(B16="","",D16*E16) -> 0 | G16: =IF(B16="","",VLOOKUP($B16,ベース!A:D,4,FALSE)) -> 出欠記録６学年 | K16: 2042 | L16: =IF(K16="","",VLOOKUP($K16,ベース!A:D,2,FALSE)) -> 同表紙 | N16: =IF(K16="","",VLOOKUP($K16,ベース!A:D,3,FALSE)) -> 531 | P16: =IF(K16="","",N16*O16) -> 0 | Q16: =IF(K16="","",VLOOKUP($K16,ベース!A:D,4,FALSE)) -> 暦年【上2穴】
B17: 1012 | C17: =IF(B17="","",VLOOKUP($B17,ベース!A:D,2,FALSE)) -> プール管理日誌（旧） | D17: =IF(B17="","",VLOOKUP($B17,ベース!A:D,3,FALSE)) -> 1431 | F17: =IF(B17="","",D17*E17) -> 0 | G17: =IF(B17="","",VLOOKUP($B17,ベース!A:D,4,FALSE)) -> 0 | K17: 2043 | L17: =IF(K17="","",VLOOKUP($K17,ベース!A:D,2,FALSE)) -> 研修承認願用紙 | N17: =IF(K17="","",VLOOKUP($K17,ベース!A:D,3,FALSE)) -> 49 | P17: =IF(K17="","",N17*O17) -> 0 | Q17: =IF(K17="","",VLOOKUP($K17,ベース!A:D,4,FALSE)) -> 【上2穴】
B18: 1013 | C18: =IF(B18="","",VLOOKUP($B18,ベース!A:D,2,FALSE)) -> プール管理日誌（改訂版） | D18: =IF(B18="","",VLOOKUP($B18,ベース!A:D,3,FALSE)) -> 2431 | F18: =IF(B18="","",D18*E18) -> 0 | G18: =IF(B18="","",VLOOKUP($B18,ベース!A:D,4,FALSE)) -> 0 | K18: 2044 | L18: =IF(K18="","",VLOOKUP($K18,ベース!A:D,2,FALSE)) -> 同表紙 | N18: =IF(K18="","",VLOOKUP($K18,ベース!A:D,3,FALSE)) -> 531 | P18: =IF(K18="","",N18*O18) -> 0 | Q18: =IF(K18="","",VLOOKUP($K18,ベース!A:D,4,FALSE)) -> 【上2穴】
B19: 1131 | C19: =IF(B19="","",VLOOKUP($B19,ベース!A:D,2,FALSE)) -> 給 食 日 誌 | D19: =IF(B19="","",VLOOKUP($B19,ベース!A:D,3,FALSE)) -> 2873 | F19: =IF(B19="","",D19*E19) -> 0 | G19: =IF(B19="","",VLOOKUP($B19,ベース!A:D,4,FALSE)) -> 0 | K19: 2045 | L19: =IF(K19="","",VLOOKUP($K19,ベース!A:D,2,FALSE)) -> 研修承認整理簿用紙 | N19: =IF(K19="","",VLOOKUP($K19,ベース!A:D,3,FALSE)) -> 49 | P19: =IF(K19="","",N19*O19) -> 0 | Q19: =IF(K19="","",VLOOKUP($K19,ベース!A:D,4,FALSE)) -> 【左4穴】
B20: 1014 | C20: =IF(B20="","",VLOOKUP($B20,ベース!A:D,2,FALSE)) -> 文書収受処理簿 | D20: =IF(B20="","",VLOOKUP($B20,ベース!A:D,3,FALSE)) -> 2653 | F20: =IF(B20="","",D20*E20) -> 0 | G20: =IF(B20="","",VLOOKUP($B20,ベース!A:D,4,FALSE)) -> 暦年 | K20: 2046 | L20: =IF(K20="","",VLOOKUP($K20,ベース!A:D,2,FALSE)) -> 同表紙 | N20: =IF(K20="","",VLOOKUP($K20,ベース!A:D,3,FALSE)) -> 531 | P20: =IF(K20="","",N20*O20) -> 0 | Q20: =IF(K20="","",VLOOKUP($K20,ベース!A:D,4,FALSE)) -> 【左4穴】
... B26: 1152 | C26: =IF(B26="","",VLOOKUP($B26,ベース!A:D,2,FALSE)) -> 防火日誌 表紙（コンピュータ出力用） | D26: =IF(B26="","",VLOOKUP($B26,ベース!A:D,3,FALSE)) -> 531 | F26: =IF(B26="","",D26*E26) -> 0 | G26: =IF(B26="","",VLOOKUP($B26,ベース!A:D,4,FALSE)) -> 【左2穴】 | K26: 2126 | L26: =IF(K26="","",VLOOKUP($K26,ベース!A:D,2,FALSE)) -> 同表紙 | N26: =IF(K26="","",VLOOKUP($K26,ベース!A:D,3,FALSE)) -> 531 | P26: =IF(K26="","",N26*O26) -> 0 | Q26: =IF(K26="","",VLOOKUP($K26,ベース!A:D,4,FALSE)) -> 暦年【上2穴】
B27: 1153 | C27: =IF(B27="","",VLOOKUP($B27,ベース!A:D,2,FALSE)) -> 看護日誌 表紙（コンピュータ出力用） | D27: =IF(B27="","",VLOOKUP($B27,ベース!A:D,3,FALSE)) -> 531 | F27: =IF(B27="","",D27*E27) -> 0 | G27: =IF(B27="","",VLOOKUP($B27,ベース!A:D,4,FALSE)) -> 【左2穴】 | L27: =IF(K27="","",VLOOKUP($K27,ベース!A:D,2,FALSE)) | N27: =IF(K27="","",VLOOKUP($K27,ベース!A:D,3,FALSE)) | P27: =IF(K27="","",N27*O27) | Q27: =IF(K27="","",VLOOKUP($K27,ベース!A:D,4,FALSE))
B28: 1154 | C28: =IF(B28="","",VLOOKUP($B28,ベース!A:D,2,FALSE)) -> 保健日誌 表紙（コンピュータ出力用） | D28: =IF(B28="","",VLOOKUP($B28,ベース!A:D,3,FALSE)) -> 531 | F28: =IF(B28="","",D28*E28) -> 0 | G28: =IF(B28="","",VLOOKUP($B28,ベース!A:D,4,FALSE)) -> 【左2穴】 | L28: =IF(K28="","",VLOOKUP($K28,ベース!A:D,2,FALSE)) | N28: =IF(K28="","",VLOOKUP($K28,ベース!A:D,3,FALSE)) | P28: =IF(K28="","",N28*O28) | Q28: =IF(K28="","",VLOOKUP($K28,ベース!A:D,4,FALSE))
B29: 1155 | C29: =IF(B29="","",VLOOKUP($B29,ベース!A:D,2,FALSE)) -> 給食日誌 表紙（コンピュータ出力用） | D29: =IF(B29="","",VLOOKUP($B29,ベース!A:D,3,FALSE)) -> 531 | F29: =IF(B29="","",D29*E29) -> 0 | G29: =IF(B29="","",VLOOKUP($B29,ベース!A:D,4,FALSE)) -> 【左2穴】 | L29: =IF(K29="","",VLOOKUP($K29,ベース!A:D,2,FALSE)) | N29: =IF(K29="","",VLOOKUP($K29,ベース!A:D,3,FALSE)) | P29: =IF(K29="","",N29*O29) | Q29: =IF(K29="","",VLOOKUP($K29,ベース!A:D,4,FALSE))
B30: 1156 | C30: =IF(B30="","",VLOOKUP($B30,ベース!A:D,2,FALSE)) -> プール管理日誌 表紙（コンピュータ出力用） | D30: =IF(B30="","",VLOOKUP($B30,ベース!A:D,3,FALSE)) -> 531 | F30: =IF(B30="","",D30*E30) -> 0 | G30: =IF(B30="","",VLOOKUP($B30,ベース!A:D,4,FALSE)) -> 【左2穴】 | L30: =IF(K30="","",VLOOKUP($K30,ベース!A:D,2,FALSE)) | N30: =IF(K30="","",VLOOKUP($K30,ベース!A:D,3,FALSE)) | P30: =IF(K30="","",N30*O30) | Q30: =IF(K30="","",VLOOKUP($K30,ベース!A:D,4,FALSE))
B31: 1157 | C31: =IF(B31="","",VLOOKUP($B31,ベース!A:D,2,FALSE)) -> 学校医執務記録簿 表紙（コンピュータ出力用） | D31: =IF(B31="","",VLOOKUP($B31,ベース!A:D,3,FALSE)) -> 531 | F31: =IF(B31="","",D31*E31) -> 0 | G31: =IF(B31="","",VLOOKUP($B31,ベース!A:D,4,FALSE)) -> 【左2穴】 | L31: =IF(K31="","",VLOOKUP($K31,ベース!A:D,2,FALSE)) | N31: =IF(K31="","",VLOOKUP($K31,ベース!A:D,3,FALSE)) | P31: =IF(K31="","",N31*O31) | Q31: =IF(K31="","",VLOOKUP($K31,ベース!A:D,4,FALSE))
B32: 1158 | C32: =IF(B32="","",VLOOKUP($B32,ベース!A:D,2,FALSE)) -> 学校歯科医執務記録簿 表紙（コンピュータ出力用） | D32: =IF(B32="","",VLOOKUP($B32,ベース!A:D,3,FALSE)) -> 531 | F32: =IF(B32="","",D32*E32) -> 0 | G32: =IF(B32="","",VLOOKUP($B32,ベース!A:D,4,FALSE)) -> 【左2穴】 | J32: ３幼児 | K32: 3059 | L32: =IF(K32="","",VLOOKUP($K32,ベース!A:D,2,FALSE)) -> 幼児指導要録用紙 | N32: =IF(K32="","",VLOOKUP($K32,ベース!A:D,3,FALSE)) -> 104 | P32: =IF(K32="","",N32*O32) -> 0 | Q32: =IF(K32="","",VLOOKUP($K32,ベース!A:D,4,FALSE)) -> 1セット 1人分【左4穴】
B33: 1159 | C33: =IF(B33="","",VLOOKUP($B33,ベース!A:D,2,FALSE)) -> 学校薬剤師執務記録簿 表紙（コンピュータ出力用） | D33: =IF(B33="","",VLOOKUP($B33,ベース!A:D,3,FALSE)) -> 531 | F33: =IF(B33="","",D33*E33) -> 0 | G33: =IF(B33="","",VLOOKUP($B33,ベース!A:D,4,FALSE)) -> 【左2穴】 | K33: 3060-1 | L33: =IF(K33="","",VLOOKUP($K33,ベース!A:D,2,FALSE)) -> 同表紙（学籍） | N33: =IF(K33="","",VLOOKUP($K33,ベース!A:D,3,FALSE)) -> 613 | P33: =IF(K33="","",N33*O33) -> 0 | Q33: =IF(K33="","",VLOOKUP($K33,ベース!A:D,4,FALSE)) -> 前付2枚付【左4穴】
C34: =IF(B34="","",VLOOKUP($B34,ベース!A:D,2,FALSE)) | D34: =IF(B34="","",VLOOKUP($B34,ベース!A:D,3,FALSE)) | F34: =IF(B34="","",D34*E34) | G34: =IF(B34="","",VLOOKUP($B34,ベース!A:D,4,FALSE)) | K34: 3060-2 | L34: =IF(K34="","",VLOOKUP($K34,ベース!A:D,2,FALSE)) -> 同表紙（指導） | N34: =IF(K34="","",VLOOKUP($K34,ベース!A:D,3,FALSE)) -> 613 | P34: =IF(K34="","",N34*O34) -> 0 | Q34: =IF(K34="","",VLOOKUP($K34,ベース!A:D,4,FALSE)) -> 前付2枚付【左4穴】
C35: =IF(B35="","",VLOOKUP($B35,ベース!A:D,2,FALSE)) | D35: =IF(B35="","",VLOOKUP($B35,ベース!A:D,3,FALSE)) | F35: =IF(B35="","",D35*E35) | G35: =IF(B35="","",VLOOKUP($B35,ベース!A:D,4,FALSE)) | K35: 3062 | L35: =IF(K35="","",VLOOKUP($K35,ベース!A:D,2,FALSE)) -> 園児出席簿用紙 | N35: =IF(K35="","",VLOOKUP($K35,ベース!A:D,3,FALSE)) -> 49 | P35: =IF(K35="","",N35*O35) -> 0 | Q35: =IF(K35="","",VLOOKUP($K35,ベース!A:D,4,FALSE)) -> 【A4横】【上4穴】
C36: =IF(B36="","",VLOOKUP($B36,ベース!A:D,2,FALSE)) | D36: =IF(B36="","",VLOOKUP($B36,ベース!A:D,3,FALSE)) | F36: =IF(B36="","",D36*E36) | G36: =IF(B36="","",VLOOKUP($B36,ベース!A:D,4,FALSE)) | K36: 3063 | L36: =IF(K36="","",VLOOKUP($K36,ベース!A:D,2,FALSE)) -> 同表紙 | N36: =IF(K36="","",VLOOKUP($K36,ベース!A:D,3,FALSE)) -> 501 | P36: =IF(K36="","",N36*O36) -> 0 | Q36: =IF(K36="","",VLOOKUP($K36,ベース!A:D,4,FALSE)) -> 【A4横】【上4穴】
C37: =IF(B37="","",VLOOKUP($B37,ベース!A:D,2,FALSE)) | D37: =IF(B37="","",VLOOKUP($B37,ベース!A:D,3,FALSE)) | F37: =IF(B37="","",D37*E37) | G37: =IF(B37="","",VLOOKUP($B37,ベース!A:D,4,FALSE)) | K37: 3064 | L37: =IF(K37="","",VLOOKUP($K37,ベース!A:D,2,FALSE)) -> 幼児健康診断票 | N37: =IF(K37="","",VLOOKUP($K37,ベース!A:D,3,FALSE)) -> 53 | P37: =IF(K37="","",N37*O37) -> 0 | Q37: =IF(K37="","",VLOOKUP($K37,ベース!A:D,4,FALSE)) -> 【A4横】【左2穴】
C38: =IF(B38="","",VLOOKUP($B38,ベース!A:D,2,FALSE)) | D38: =IF(B38="","",VLOOKUP($B38,ベース!A:D,3,FALSE)) | F38: =IF(B38="","",D38*E38) | G38: =IF(B38="","",VLOOKUP($B38,ベース!A:D,4,FALSE)) | K38: 3065 | L38: =IF(K38="","",VLOOKUP($K38,ベース!A:D,2,FALSE)) -> 同表紙 | N38: =IF(K38="","",VLOOKUP($K38,ベース!A:D,3,FALSE)) -> 613 | P38: =IF(K38="","",N38*O38) -> 0 | Q38: =IF(K38="","",VLOOKUP($K38,ベース!A:D,4,FALSE)) -> 記入例1枚・前付2枚付【A4横】【左2穴】
L39: =IF(K39="","",VLOOKUP($K39,ベース!A:D,2,FALSE)) | N39: =IF(K39="","",VLOOKUP($K39,ベース!A:D,3,FALSE)) | P39: =IF(K39="","",N39*O39) | Q39: =IF(K39="","",VLOOKUP($K39,ベース!A:D,4,FALSE))
A40: 他の校種（例えば義務教育学校で小学校の用紙に小・中まとめる）をまとめて入力する場合「小・中まとめて入力」と通信欄に記入願います。 | L40: =IF(K40="","",VLOOKUP($K40,ベース!A:D,2,FALSE)) | N40: =IF(K40="","",VLOOKUP($K40,ベース!A:D,3,FALSE)) | P40: =IF(K40="","",N40*O40) | Q40: =IF(K40="","",VLOOKUP($K40,ベース!A:D,4,FALSE))
L41: =IF(K41="","",VLOOKUP($K41,ベース!A:D,2,FALSE)) | N41: =IF(K41="","",VLOOKUP($K41,ベース!A:D,3,FALSE)) | P41: =IF(K41="","",N41*O41) | Q41: =IF(K41="","",VLOOKUP($K41,ベース!A:D,4,FALSE))
A42: 通信欄： | L42: =IF(K42="","",VLOOKUP($K42,ベース!A:D,2,FALSE)) | N42: =IF(K42="","",VLOOKUP($K42,ベース!A:D,3,FALSE)) | P42: =IF(K42="","",N42*O42) | Q42: =IF(K42="","",VLOOKUP($K42,ベース!A:D,4,FALSE))
J43: ５財務 | K43: 5114 | L43: =IF(K43="","",VLOOKUP($K43,ベース!A:D,2,FALSE)) -> 郵便切手受払簿 | N43: =IF(K43="","",VLOOKUP($K43,ベース!A:D,3,FALSE)) -> 2541 | P43: =IF(K43="","",N43*O43) -> 0 | Q43: =IF(K43="","",VLOOKUP($K43,ベース!A:D,4,FALSE)) -> 0
L44: =IF(K44="","",VLOOKUP($K44,ベース!A:D,2,FALSE)) | N44: =IF(K44="","",VLOOKUP($K44,ベース!A:D,3,FALSE)) | P44: =IF(K44="","",N44*O44) | Q44: =IF(K44="","",VLOOKUP($K44,ベース!A:D,4,FALSE))
L45: =IF(K45="","",VLOOKUP($K45,ベース!A:D,2,FALSE)) | N45: =IF(K45="","",VLOOKUP($K45,ベース!A:D,3,FALSE)) | P45: =IF(K45="","",N45*O45) | Q45: =IF(K45="","",VLOOKUP($K45,ベース!A:D,4,FALSE))
J46: 合 計 | P46: =SUM(F8:F38)+SUM(P8:P45) -> 0
...

Sheet （小学校　義務教育学校・前期用）
A1: =ベース!A1 -> 令和９年度用 | C1: =ベース!B1 -> 表簿・用紙申込書 | J1: 茨城県教育会 記 入 欄 | Q1: =ベース!D1 -> 令和８年 月 日
N3: 立 | R3: 小 学 校 義務教育学校
C4: （小学校 義務教育学校・前期用）
L5: 学校電話番号 | P5: 事務担当者名
A6: 電子メールでお申込みの場合この用紙にご入力して、添付ファイルで送信願います。
B7: 商品番号 | C7: 商 品 名 | D7: 単 価 | E7: 数 量 | F7: 金 額 | G7: 備 考 | K7: 商品番号 | L7: 商 品 名 | N7: 単 価 | O7: 数 量 | P7: 金 額 | Q7: 備 考
A8: １学校の管理運営 | B8: 1001 | C8: =IF(B8="","",VLOOKUP($B8,ベース!A:D,2,FALSE)) -> 学校沿革誌 | D8: =IF(B8="","",VLOOKUP($B8,ベース!A:D,3,FALSE)) -> 5949 | F8: =IF(B8="","",D8*E8) -> 0 | G8: =IF(B8="","",VLOOKUP($B8,ベース!A:D,4,FALSE)) -> 100枚綴【右4穴】表紙・用紙セット | J8: ２教職員 | K8: 2031 | L8: =IF(K8="","",VLOOKUP($K8,ベース!A:D,2,FALSE)) -> 職員出勤簿用紙 | N8: =IF(K8="","",VLOOKUP($K8,ベース!A:D,3,FALSE)) -> 138 | P8: =IF(K8="","",N8*O8) -> 0 | Q8: =IF(K8="","",VLOOKUP($K8,ベース!A:D,4,FALSE)) -> 【B4横】【左4穴】
B9: 1001-1 | C9: =IF(B9="","",VLOOKUP($B9,ベース!A:D,2,FALSE)) -> 学校沿革誌表紙 | D9: =IF(B9="","",VLOOKUP($B9,ベース!A:D,3,FALSE)) -> 2149 | F9: =IF(B9="","",D9*E9) -> 0 | G9: =IF(B9="","",VLOOKUP($B9,ベース!A:D,4,FALSE)) -> 【右4穴】 | K9: 2033 | L9: =IF(K9="","",VLOOKUP($K9,ベース!A:D,2,FALSE)) -> 同表紙（ボール） | N9: =IF(K9="","",VLOOKUP($K9,ベース!A:D,3,FALSE)) -> 821 | P9: =IF(K9="","",N9*O9) -> 0 | Q9: =IF(K9="","",VLOOKUP($K9,ベース!A:D,4,FALSE)) -> 【B4横】【左4穴】
B10: 1022 | C10: =IF(B10="","",VLOOKUP($B10,ベース!A:D,2,FALSE)) -> 学校沿革誌用紙 | D10: =IF(B10="","",VLOOKUP($B10,ベース!A:D,3,FALSE)) -> 38 | F10: =IF(B10="","",D10*E10) -> 0 | G10: =IF(B10="","",VLOOKUP($B10,ベース!A:D,4,FALSE)) -> 用紙はマニラ仙貨【右4穴】 | K10: 2034 | L10: =IF(K10="","",VLOOKUP($K10,ベース!A:D,2,FALSE)) -> 同表紙（総クロス） | N10: =IF(K10="","",VLOOKUP($K10,ベース!A:D,3,FALSE)) -> 1802 | P10: =IF(K10="","",N10*O10) -> 0 | Q10: =IF(K10="","",VLOOKUP($K10,ベース!A:D,4,FALSE)) -> 【B4横】【左4穴】
B11: 1132 | C11: =IF(B11="","",VLOOKUP($B11,ベース!A:D,2,FALSE)) -> 学校日誌（小・中・義） | D11: =IF(B11="","",VLOOKUP($B11,ベース!A:D,3,FALSE)) -> 2873 | F11: =IF(B11="","",D11*E11) -> 0 | G11: =IF(B11="","",VLOOKUP($B11,ベース!A:D,4,FALSE)) -> 0 | K11: 2035 | L11: =IF(K11="","",VLOOKUP($K11,ベース!A:D,2,FALSE)) -> 職員健康診断票 | N11: =IF(K11="","",VLOOKUP($K11,ベース!A:D,3,FALSE)) -> 76 | P11: =IF(K11="","",N11*O11) -> 0 | Q11: =IF(K11="","",VLOOKUP($K11,ベース!A:D,4,FALSE)) -> 【上2穴】
B12: 1127 | C12: =IF(B12="","",VLOOKUP($B12,ベース!A:D,2,FALSE)) -> 当 直 日 誌 | D12: =IF(B12="","",VLOOKUP($B12,ベース!A:D,3,FALSE)) -> 2873 | F12: =IF(B12="","",D12*E12) -> 0 | G12: =IF(B12="","",VLOOKUP($B12,ベース!A:D,4,FALSE)) -> 0 | K12: 2036 | L12: =IF(K12="","",VLOOKUP($K12,ベース!A:D,2,FALSE)) -> 同表紙 | N12: =IF(K12="","",VLOOKUP($K12,ベース!A:D,3,FALSE)) -> 531 | P12: =IF(K12="","",N12*O12) -> 0 | Q12: =IF(K12="","",VLOOKUP($K12,ベース!A:D,4,FALSE)) -> 【上2穴】
B13: 1128 | C13: =IF(B13="","",VLOOKUP($B13,ベース!A:D,2,FALSE)) -> 防 火 日 誌 | D13: =IF(B13="","",VLOOKUP($B13,ベース!A:D,3,FALSE)) -> 2873 | F13: =IF(B13="","",D13*E13) -> 0 | G13: =IF(B13="","",VLOOKUP($B13,ベース!A:D,4,FALSE)) -> 0 | K13: 2039 | L13: =IF(K13="","",VLOOKUP($K13,ベース!A:D,2,FALSE)) -> 週休日の振替え簿用紙 | N13: =IF(K13="","",VLOOKUP($K13,ベース!A:D,3,FALSE)) -> 49 | P13: =IF(K13="","",N13*O13) -> 0 | Q13: =IF(K13="","",VLOOKUP($K13,ベース!A:D,4,FALSE)) -> 【A4横】【上4穴】
B14: 1129 | C14: =IF(B14="","",VLOOKUP($B14,ベース!A:D,2,FALSE)) -> 看 護 日 誌 | D14: =IF(B14="","",VLOOKUP($B14,ベース!A:D,3,FALSE)) -> 2674 | F14: =IF(B14="","",D14*E14) -> 0 | G14: =IF(B14="","",VLOOKUP($B14,ベース!A:D,4,FALSE)) -> 0 | K14: 2040 | L14: =IF(K14="","",VLOOKUP($K14,ベース!A:D,2,FALSE)) -> 同表紙 | N14: =IF(K14="","",VLOOKUP($K14,ベース!A:D,3,FALSE)) -> 531 | P14: =IF(K14="","",N14*O14) -> 0 | Q14: =IF(K14="","",VLOOKUP($K14,ベース!A:D,4,FALSE)) -> 【A4横】【上4穴】
B15: 1130 | C15: =IF(B15="","",VLOOKUP($B15,ベース!A:D,2,FALSE)) -> 保健日誌（小・中等） | D15: =IF(B15="","",VLOOKUP($B15,ベース!A:D,3,FALSE)) -> 2873 | F15: =IF(B15="","",D15*E15) -> 0 | G15: =IF(B15="","",VLOOKUP($B15,ベース!A:D,4,FALSE)) -> 出欠記録６学年 | K15: 2041 | L15: =IF(K15="","",VLOOKUP($K15,ベース!A:D,2,FALSE)) -> 休暇カード | N15: =IF(K15="","",VLOOKUP($K15,ベース!A:D,3,FALSE)) -> 49 | P15: =IF(K15="","",N15*O15) -> 0 | Q15: =IF(K15="","",VLOOKUP($K15,ベース!A:D,4,FALSE)) -> 暦年【上2穴】
B16: 1012 | C16: =IF(B16="","",VLOOKUP($B16,ベース!A:D,2,FALSE)) -> プール管理日誌（旧） | D16: =IF(B16="","",VLOOKUP($B16,ベース!A:D,3,FALSE)) -> 1431 | F16: =IF(B16="","",D16*E16) -> 0 | G16: =IF(B16="","",VLOOKUP($B16,ベース!A:D,4,FALSE)) -> 0 | K16: 2042 | L16: =IF(K16="","",VLOOKUP($K16,ベース!A:D,2,FALSE)) -> 同表紙 | N16: =IF(K16="","",VLOOKUP($K16,ベース!A:D,3,FALSE)) -> 531 | P16: =IF(K16="","",N16*O16) -> 0 | Q16: =IF(K16="","",VLOOKUP($K16,ベース!A:D,4,FALSE)) -> 暦年【上2穴】
B17: 1013 | C17: =IF(B17="","",VLOOKUP($B17,ベース!A:D,2,FALSE)) -> プール管理日誌（改訂版） | D17: =IF(B17="","",VLOOKUP($B17,ベース!A:D,3,FALSE)) -> 2431 | F17: =IF(B17="","",D17*E17) -> 0 | G17: =IF(B17="","",VLOOKUP($B17,ベース!A:D,4,FALSE)) -> 0 | K17: 2043 | L17: =IF(K17="","",VLOOKUP($K17,ベース!A:D,2,FALSE)) -> 研修承認願用紙 | N17: =IF(K17="","",VLOOKUP($K17,ベース!A:D,3,FALSE)) -> 49 | P17: =IF(K17="","",N17*O17) -> 0 | Q17: =IF(K17="","",VLOOKUP($K17,ベース!A:D,4,FALSE)) -> 【上2穴】
B18: 1131 | C18: =IF(B18="","",VLOOKUP($B18,ベース!A:D,2,FALSE)) -> 給 食 日 誌 | D18: =IF(B18="","",VLOOKUP($B18,ベース!A:D,3,FALSE)) -> 2873 | F18: =IF(B18="","",D18*E18) -> 0 | G18: =IF(B18="","",VLOOKUP($B18,ベース!A:D,4,FALSE)) -> 0 | K18: 2044 | L18: =IF(K18="","",VLOOKUP($K18,ベース!A:D,2,FALSE)) -> 同表紙 | N18: =IF(K18="","",VLOOKUP($K18,ベース!A:D,3,FALSE)) -> 531 | P18: =IF(K18="","",N18*O18) -> 0 | Q18: =IF(K18="","",VLOOKUP($K18,ベース!A:D,4,FALSE)) -> 【上2穴】
B19: 1014 | C19: =IF(B19="","",VLOOKUP($B19,ベース!A:D,2,FALSE)) -> 文書収受処理簿 | D19: =IF(B19="","",VLOOKUP($B19,ベース!A:D,3,FALSE)) -> 2653 | F19: =IF(B19="","",D19*E19) -> 0 | G19: =IF(B19="","",VLOOKUP($B19,ベース!A:D,4,FALSE)) -> 暦年 | K19: 2045 | L19: =IF(K19="","",VLOOKUP($K19,ベース!A:D,2,FALSE)) -> 研修承認整理簿用紙 | N19: =IF(K19="","",VLOOKUP($K19,ベース!A:D,3,FALSE)) -> 49 | P19: =IF(K19="","",N19*O19) -> 0 | Q19: =IF(K19="","",VLOOKUP($K19,ベース!A:D,4,FALSE)) -> 【左4穴】
B20: 1021 | C20: =IF(B20="","",VLOOKUP($B20,ベース!A:D,2,FALSE)) -> 文書番号簿 | D20: =IF(B20="","",VLOOKUP($B20,ベース!A:D,3,FALSE)) -> 2653 | F20: =IF(B20="","",D20*E20) -> 0 | G20: =IF(B20="","",VLOOKUP($B20,ベース!A:D,4,FALSE)) -> 暦年 | K20: 2046 | L20: =IF(K20="","",VLOOKUP($K20,ベース!A:D,2,FALSE)) -> 同表紙 | N20: =IF(K20="","",VLOOKUP($K20,ベース!A:D,3,FALSE)) -> 531 | P20: =IF(K20="","",N20*O20) -> 0 | Q20: =IF(K20="","",VLOOKUP($K20,ベース!A:D,4,FALSE)) -> 【左4穴】
... B26: 1152 | C26: =IF(B26="","",VLOOKUP($B26,ベース!A:D,2,FALSE)) -> 防火日誌 表紙（コンピュータ出力用） | D26: =IF(B26="","",VLOOKUP($B26,ベース!A:D,3,FALSE)) -> 531 | F26: =IF(B26="","",D26*E26) -> 0 | G26: =IF(B26="","",VLOOKUP($B26,ベース!A:D,4,FALSE)) -> 【左2穴】 | K26: 2126 | L26: =IF(K26="","",VLOOKUP($K26,ベース!A:D,2,FALSE)) -> 同表紙 | N26: =IF(K26="","",VLOOKUP($K26,ベース!A:D,3,FALSE)) -> 531 | P26: =IF(K26="","",N26*O26) -> 0 | Q26: =IF(K26="","",VLOOKUP($K26,ベース!A:D,4,FALSE)) -> 暦年【上2穴】
B27: 1153 | C27: =IF(B27="","",VLOOKUP($B27,ベース!A:D,2,FALSE)) -> 看護日誌 表紙（コンピュータ出力用） | D27: =IF(B27="","",VLOOKUP($B27,ベース!A:D,3,FALSE)) -> 531 | F27: =IF(B27="","",D27*E27) -> 0 | G27: =IF(B27="","",VLOOKUP($B27,ベース!A:D,4,FALSE)) -> 【左2穴】 | L27: =IF(K27="","",VLOOKUP($K27,ベース!A:D,2,FALSE)) | N27: =IF(K27="","",VLOOKUP($K27,ベース!A:D,3,FALSE)) | P27: =IF(K27="","",N27*O27) | Q27: =IF(K27="","",VLOOKUP($K27,ベース!A:D,4,FALSE))
B28: 1154 | C28: =IF(B28="","",VLOOKUP($B28,ベース!A:D,2,FALSE)) -> 保健日誌 表紙（コンピュータ出力用） | D28: =IF(B28="","",VLOOKUP($B28,ベース!A:D,3,FALSE)) -> 531 | F28: =IF(B28="","",D28*E28) -> 0 | G28: =IF(B28="","",VLOOKUP($B28,ベース!A:D,4,FALSE)) -> 【左2穴】 | J28: ４児童 | K28: 4066 | L28: =IF(K28="","",VLOOKUP($K28,ベース!A:D,2,FALSE)) -> 児童指導要録用紙（様式1・様式2） | N28: =IF(K28="","",VLOOKUP($K28,ベース!A:D,3,FALSE)) -> 104 | P28: =IF(K28="","",N28*O28) -> 0 | Q28: =IF(K28="","",VLOOKUP($K28,ベース!A:D,4,FALSE)) -> 1セット 1人分【左4穴】
B29: 1155 | C29: =IF(B29="","",VLOOKUP($B29,ベース!A:D,2,FALSE)) -> 給食日誌 表紙（コンピュータ出力用） | D29: =IF(B29="","",VLOOKUP($B29,ベース!A:D,3,FALSE)) -> 531 | F29: =IF(B29="","",D29*E29) -> 0 | G29: =IF(B29="","",VLOOKUP($B29,ベース!A:D,4,FALSE)) -> 【左2穴】 | K29: 4068 | L29: =IF(K29="","",VLOOKUP($K29,ベース!A:D,2,FALSE)) -> 小学部児童指導要録用紙（知的障害用 様式1・様式2） | N29: =IF(K29="","",VLOOKUP($K29,ベース!A:D,3,FALSE)) -> 104 | P29: =IF(K29="","",N29*O29) -> 0 | Q29: =IF(K29="","",VLOOKUP($K29,ベース!A:D,4,FALSE)) -> 1セット 1人分【左4穴】
B30: 1156 | C30: =IF(B30="","",VLOOKUP($B30,ベース!A:D,2,FALSE)) -> プール管理日誌 表紙（コンピュータ出力用） | D30: =IF(B30="","",VLOOKUP($B30,ベース!A:D,3,FALSE)) -> 531 | F30: =IF(B30="","",D30*E30) -> 0 | G30: =IF(B30="","",VLOOKUP($B30,ベース!A:D,4,FALSE)) -> 【左2穴】 | K30: 4071 | L30: =IF(K30="","",VLOOKUP($K30,ベース!A:D,2,FALSE)) -> 指導要録表紙／小・中／学 籍 | N30: =IF(K30="","",VLOOKUP($K30,ベース!A:D,3,FALSE)) -> 613 | P30: =IF(K30="","",N30*O30) -> 0 | Q30: =IF(K30="","",VLOOKUP($K30,ベース!A:D,4,FALSE)) -> 前付2枚付【左4穴】
B31: 1157 | C31: =IF(B31="","",VLOOKUP($B31,ベース!A:D,2,FALSE)) -> 学校医執務記録簿 表紙（コンピュータ出力用） | D31: =IF(B31="","",VLOOKUP($B31,ベース!A:D,3,FALSE)) -> 531 | F31: =IF(B31="","",D31*E31) -> 0 | G31: =IF(B31="","",VLOOKUP($B31,ベース!A:D,4,FALSE)) -> 【左2穴】 | K31: 4073 | L31: =IF(K31="","",VLOOKUP($K31,ベース!A:D,2,FALSE)) -> 指導要録表紙／小・中／指 導 | N31: =IF(K31="","",VLOOKUP($K31,ベース!A:D,3,FALSE)) -> 613 | P31: =IF(K31="","",N31*O31) -> 0 | Q31: =IF(K31="","",VLOOKUP($K31,ベース!A:D,4,FALSE)) -> 前付2枚付【左4穴】
B32: 1158 | C32: =IF(B32="","",VLOOKUP($B32,ベース!A:D,2,FALSE)) -> 学校歯科医執務記録簿 表紙（コンピュータ出力用） | D32: =IF(B32="","",VLOOKUP($B32,ベース!A:D,3,FALSE)) -> 531 | F32: =IF(B32="","",D32*E32) -> 0 | G32: =IF(B32="","",VLOOKUP($B32,ベース!A:D,4,FALSE)) -> 【左2穴】 | K32: 4072 | L32: =IF(K32="","",VLOOKUP($K32,ベース!A:D,2,FALSE)) -> 指導要録前付 | N32: =IF(K32="","",VLOOKUP($K32,ベース!A:D,3,FALSE)) -> 25 | P32: =IF(K32="","",N32*O32) -> 0 | Q32: =IF(K32="","",VLOOKUP($K32,ベース!A:D,4,FALSE)) -> 【左4穴】
B33: 1159 | C33: =IF(B33="","",VLOOKUP($B33,ベース!A:D,2,FALSE)) -> 学校薬剤師執務記録簿 表紙（コンピュータ出力用） | D33: =IF(B33="","",VLOOKUP($B33,ベース!A:D,3,FALSE)) -> 531 | F33: =IF(B33="","",D33*E33) -> 0 | G33: =IF(B33="","",VLOOKUP($B33,ベース!A:D,4,FALSE)) -> 【左2穴】 | K33: 4082 | L33: =IF(K33="","",VLOOKUP($K33,ベース!A:D,2,FALSE)) -> 横型〈男女別〉出席簿用紙 | N33: =IF(K33="","",VLOOKUP($K33,ベース!A:D,3,FALSE)) -> 49 | P33: =IF(K33="","",N33*O33) -> 0 | Q33: =IF(K33="","",VLOOKUP($K33,ベース!A:D,4,FALSE)) -> 【A4横】【左4穴】
B34: 1160 | C34: =IF(B34="","",VLOOKUP($B34,ベース!A:D,2,FALSE)) -> 理科薬品関係受払簿（冊子） | D34: =IF(B34="","",VLOOKUP($B34,ベース!A:D,3,FALSE)) -> 2700 | F34: =IF(B34="","",D34*E34) -> 0 | G34: =IF(B34="","",VLOOKUP($B34,ベース!A:D,4,FALSE)) -> 記入例1枚・受払簿用紙50枚 点検一覧表4枚付 | K34: 4083 | L34: =IF(K34="","",VLOOKUP($K34,ベース!A:D,2,FALSE)) -> 横型〈男女別〉出席簿表紙 | N34: =IF(K34="","",VLOOKUP($K34,ベース!A:D,3,FALSE)) -> 590 | P34: =IF(K34="","",N34*O34) -> 0 | Q34: =IF(K34="","",VLOOKUP($K34,ベース!A:D,4,FALSE)) -> 前付1枚付/令7凡例一部変更【A4横】【左4穴】
B35: 1161 | C35: =IF(B35="","",VLOOKUP($B35,ベース!A:D,2,FALSE)) -> 理科薬品関係受払簿表紙 | D35: =IF(B35="","",VLOOKUP($B35,ベース!A:D,3,FALSE)) -> 531 | F35: =IF(B35="","",D35*E35) -> 0 | G35: =IF(B35="","",VLOOKUP($B35,ベース!A:D,4,FALSE)) -> 記入例1枚 【左2穴】 | K35: 4130 | L35: =IF(K35="","",VLOOKUP($K35,ベース!A:D,2,FALSE)) -> 出席簿表紙（コンピュータ出力用） | N35: =IF(K35="","",VLOOKUP($K35,ベース!A:D,3,FALSE)) -> 531 | P35: =IF(K35="","",N35*O35) -> 0 | Q35: =IF(K35="","",VLOOKUP($K35,ベース!A:D,4,FALSE)) -> 【A4横】【左2穴】
B36: 1161-2 | C36: =IF(B36="","",VLOOKUP($B36,ベース!A:D,2,FALSE)) -> 理科薬品関係点検一覧表用紙 | D36: =IF(B36="","",VLOOKUP($B36,ベース!A:D,3,FALSE)) -> 49 | F36: =IF(B36="","",D36*E36) -> 0 | G36: =IF(B36="","",VLOOKUP($B36,ベース!A:D,4,FALSE)) -> 【左2穴】 | K36: 4085 | L36: =IF(K36="","",VLOOKUP($K36,ベース!A:D,2,FALSE)) -> 縦型〈男女混合〉出席簿用紙 | N36: =IF(K36="","",VLOOKUP($K36,ベース!A:D,3,FALSE)) -> 49 | P36: =IF(K36="","",N36*O36) -> 0 | Q36: =IF(K36="","",VLOOKUP($K36,ベース!A:D,4,FALSE)) -> 0
B37: 1161-3 | C37: =IF(B37="","",VLOOKUP($B37,ベース!A:D,2,FALSE)) -> 理科薬品関係受払簿用紙 | D37: =IF(B37="","",VLOOKUP($B37,ベース!A:D,3,FALSE)) -> 49 | F37: =IF(B37="","",D37*E37) -> 0 | G37: =IF(B37="","",VLOOKUP($B37,ベース!A:D,4,FALSE)) -> 【左2穴】 | K37: 4086 | L37: =IF(K37="","",VLOOKUP($K37,ベース!A:D,2,FALSE)) -> 縦型〈男女混合〉出席簿表紙 | N37: =IF(K37="","",VLOOKUP($K37,ベース!A:D,3,FALSE)) -> 590 | P37: =IF(K37="","",N37*O37) -> 0 | Q37: =IF(K37="","",VLOOKUP($K37,ベース!A:D,4,FALSE)) -> 前付1枚付/令7凡例一部変更【左4穴】
C38: =IF(B38="","",VLOOKUP($B38,ベース!A:D,2,FALSE)) | D38: =IF(B38="","",VLOOKUP($B38,ベース!A:D,3,FALSE)) | F38: =IF(B38="","",D38*E38) | G38: =IF(B38="","",VLOOKUP($B38,ベース!A:D,4,FALSE)) | K38: 4140 | L38: =IF(K38="","",VLOOKUP($K38,ベース!A:D,2,FALSE)) -> 出席簿表紙（コンピュータ出力用） | N38: =IF(K38="","",VLOOKUP($K38,ベース!A:D,3,FALSE)) -> 531 | P38: =IF(K38="","",N38*O38) -> 0 | Q38: =IF(K38="","",VLOOKUP($K38,ベース!A:D,4,FALSE)) -> 【左2穴】
K39: 4098 | L39: =IF(K39="","",VLOOKUP($K39,ベース!A:D,2,FALSE)) -> 児童・生徒健康診断票（小・中・義） | N39: =IF(K39="","",VLOOKUP($K39,ベース!A:D,3,FALSE)) -> 49 | P39: =IF(K39="","",N39*O39) -> 0 | Q39: =IF(K39="","",VLOOKUP($K39,ベース!A:D,4,FALSE)) -> 【上2穴】
A40: 他の校種（例えば義務教育学校で小学校の用紙に小・中まとめる）をまとめて入力する場合「小・中まとめて入力」と通信欄に記入願います。 | K40: 4099 | L40: =IF(K40="","",VLOOKUP($K40,ベース!A:D,2,FALSE)) -> 同 表 紙（小・中） | N40: =IF(K40="","",VLOOKUP($K40,ベース!A:D,3,FALSE)) -> 493 | P40: =IF(K40="","",N40*O40) -> 0 | Q40: =IF(K40="","",VLOOKUP($K40,ベース!A:D,4,FALSE)) -> 記入例令8一部変更1枚・前付2枚付【上2穴】
K41: 4100 | L41: =IF(K41="","",VLOOKUP($K41,ベース!A:D,2,FALSE)) -> 児童・生徒健康診断票前付（小・中・義） | N41: =IF(K41="","",VLOOKUP($K41,ベース!A:D,3,FALSE)) -> 25 | P41: =IF(K41="","",N41*O41) -> 0 | Q41: =IF(K41="","",VLOOKUP($K41,ベース!A:D,4,FALSE)) -> 【上2穴】
A42: 通信欄： | K42: 4141 | L42: =IF(K42="","",VLOOKUP($K42,ベース!A:D,2,FALSE)) -> 同表紙（コンピュータ出力用） | N42: =IF(K42="","",VLOOKUP($K42,ベース!A:D,3,FALSE)) -> 493 | P42: =IF(K42="","",N42*O42) -> 0 | Q42: =IF(K42="","",VLOOKUP($K42,ベース!A:D,4,FALSE)) -> 記入例1枚・前付2枚付【左2穴】
K43: 4107 | L43: =IF(K43="","",VLOOKUP($K43,ベース!A:D,2,FALSE)) -> 卒業証書台帳 | N43: =IF(K43="","",VLOOKUP($K43,ベース!A:D,3,FALSE)) -> 4581 | P43: =IF(K43="","",N43*O43) -> 0 | Q43: =IF(K43="","",VLOOKUP($K43,ベース!A:D,4,FALSE)) -> 100枚綴【左4穴】表紙・用紙セット
K44: 4107-1 | L44: =IF(K44="","",VLOOKUP($K44,ベース!A:D,2,FALSE)) -> 同表紙 | N44: =IF(K44="","",VLOOKUP($K44,ベース!A:D,3,FALSE)) -> 2149 | P44: =IF(K44="","",N44*O44) -> 0 | Q44: =IF(K44="","",VLOOKUP($K44,ベース!A:D,4,FALSE)) -> 【左4穴】
K45: 4119 | L45: =IF(K45="","",VLOOKUP($K45,ベース!A:D,2,FALSE)) -> 卒業証書台帳用紙 | N45: =IF(K45="","",VLOOKUP($K45,ベース!A:D,3,FALSE)) -> 38 | P45: =IF(K45="","",N45*O45) -> 0 | Q45: =IF(K45="","",VLOOKUP($K45,ベース!A:D,4,FALSE)) -> 【左4穴】
K46: 4109 | L46: =IF(K46="","",VLOOKUP($K46,ベース!A:D,2,FALSE)) -> 証明書交付台帳 | N46: =IF(K46="","",VLOOKUP($K46,ベース!A:D,3,FALSE)) -> 2208 | P46: =IF(K46="","",N46*O46) -> 0 | Q46: =IF(K46="","",VLOOKUP($K46,ベース!A:D,4,FALSE)) -> 0
...

Sheet （中学校　義務教育学校・後期　中等教育学校・前期用）
A1: =ベース!A1 -> 令和９年度用 | C1: =ベース!B1 -> 表簿・用紙申込書 | J1: 茨城県教育会 記 入 欄 | Q1: =ベース!D1 -> 令和８年 月 日
N3: 立 | R3: 中 学 校 義務教育学校 中等教育学校
B4: （中学校 義務教育学校・後期 中等教育学校・前期用）
L5: 学校電話番号 | P5: 事務担当者名
A6: 電子メールでお申込みの場合この用紙にご入力して、添付ファイルで送信願います。
B7: 商品番号 | C7: 商 品 名 | D7: 単 価 | E7: 数 量 | F7: 金 額 | G7: 備 考 | K7: 商品番号 | L7: 商 品 名 | N7: 単 価 | O7: 数 量 | P7: 金 額 | Q7: 備 考
A8: １学校の管理運営 | B8: 1001 | C8: =IF(B8="","",VLOOKUP($B8,ベース!A:D,2,FALSE)) -> 学校沿革誌 | D8: =IF(B8="","",VLOOKUP($B8,ベース!A:D,3,FALSE)) -> 5949 | F8: =IF(B8="","",D8*E8) -> 0 | G8: =IF(B8="","",VLOOKUP($B8,ベース!A:D,4,FALSE)) -> 100枚綴【右4穴】表紙・用紙セット | J8: ２教職員 | K8: 2031 | L8: =IF(K8="","",VLOOKUP($K8,ベース!A:D,2,FALSE)) -> 職員出勤簿用紙 | N8: =IF(K8="","",VLOOKUP($K8,ベース!A:D,3,FALSE)) -> 138 | P8: =IF(K8="","",N8*O8) -> 0 | Q8: =IF(K8="","",VLOOKUP($K8,ベース!A:D,4,FALSE)) -> 【B4横】【左4穴】
B9: 1001-1 | C9: =IF(B9="","",VLOOKUP($B9,ベース!A:D,2,FALSE)) -> 学校沿革誌表紙 | D9: =IF(B9="","",VLOOKUP($B9,ベース!A:D,3,FALSE)) -> 2149 | F9: =IF(B9="","",D9*E9) -> 0 | G9: =IF(B9="","",VLOOKUP($B9,ベース!A:D,4,FALSE)) -> 【右4穴】 | K9: 2033 | L9: =IF(K9="","",VLOOKUP($K9,ベース!A:D,2,FALSE)) -> 同表紙（ボール） | N9: =IF(K9="","",VLOOKUP($K9,ベース!A:D,3,FALSE)) -> 821 | P9: =IF(K9="","",N9*O9) -> 0 | Q9: =IF(K9="","",VLOOKUP($K9,ベース!A:D,4,FALSE)) -> 【B4横】【左4穴】
B10: 1022 | C10: =IF(B10="","",VLOOKUP($B10,ベース!A:D,2,FALSE)) -> 学校沿革誌用紙 | D10: =IF(B10="","",VLOOKUP($B10,ベース!A:D,3,FALSE)) -> 38 | F10: =IF(B10="","",D10*E10) -> 0 | G10: =IF(B10="","",VLOOKUP($B10,ベース!A:D,4,FALSE)) -> 用紙はマニラ仙貨【右4穴】 | K10: 2034 | L10: =IF(K10="","",VLOOKUP($K10,ベース!A:D,2,FALSE)) -> 同表紙（総クロス） | N10: =IF(K10="","",VLOOKUP($K10,ベース!A:D,3,FALSE)) -> 1802 | P10: =IF(K10="","",N10*O10) -> 0 | Q10: =IF(K10="","",VLOOKUP($K10,ベース!A:D,4,FALSE)) -> 【B4横】【左4穴】
B11: 1132 | C11: =IF(B11="","",VLOOKUP($B11,ベース!A:D,2,FALSE)) -> 学校日誌（小・中・義） | D11: =IF(B11="","",VLOOKUP($B11,ベース!A:D,3,FALSE)) -> 2873 | F11: =IF(B11="","",D11*E11) -> 0 | G11: =IF(B11="","",VLOOKUP($B11,ベース!A:D,4,FALSE)) -> 0 | K11: 2035 | L11: =IF(K11="","",VLOOKUP($K11,ベース!A:D,2,FALSE)) -> 職員健康診断票 | N11: =IF(K11="","",VLOOKUP($K11,ベース!A:D,3,FALSE)) -> 76 | P11: =IF(K11="","",N11*O11) -> 0 | Q11: =IF(K11="","",VLOOKUP($K11,ベース!A:D,4,FALSE)) -> 【上2穴】
B12: 1137 | C12: =IF(B12="","",VLOOKUP($B12,ベース!A:D,2,FALSE)) -> 学校日誌（中等教育学校） | D12: =IF(B12="","",VLOOKUP($B12,ベース!A:D,3,FALSE)) -> 2873 | F12: =IF(B12="","",D12*E12) -> 0 | G12: =IF(B12="","",VLOOKUP($B12,ベース!A:D,4,FALSE)) -> 出欠記録６学年 | K12: 2036 | L12: =IF(K12="","",VLOOKUP($K12,ベース!A:D,2,FALSE)) -> 同表紙 | N12: =IF(K12="","",VLOOKUP($K12,ベース!A:D,3,FALSE)) -> 531 | P12: =IF(K12="","",N12*O12) -> 0 | Q12: =IF(K12="","",VLOOKUP($K12,ベース!A:D,4,FALSE)) -> 【上2穴】
B13: 1127 | C13: =IF(B13="","",VLOOKUP($B13,ベース!A:D,2,FALSE)) -> 当 直 日 誌 | D13: =IF(B13="","",VLOOKUP($B13,ベース!A:D,3,FALSE)) -> 2873 | F13: =IF(B13="","",D13*E13) -> 0 | G13: =IF(B13="","",VLOOKUP($B13,ベース!A:D,4,FALSE)) -> 0 | K13: 2039 | L13: =IF(K13="","",VLOOKUP($K13,ベース!A:D,2,FALSE)) -> 週休日の振替え簿用紙 | N13: =IF(K13="","",VLOOKUP($K13,ベース!A:D,3,FALSE)) -> 49 | P13: =IF(K13="","",N13*O13) -> 0 | Q13: =IF(K13="","",VLOOKUP($K13,ベース!A:D,4,FALSE)) -> 【A4横】【上4穴】
B14: 1128 | C14: =IF(B14="","",VLOOKUP($B14,ベース!A:D,2,FALSE)) -> 防 火 日 誌 | D14: =IF(B14="","",VLOOKUP($B14,ベース!A:D,3,FALSE)) -> 2873 | F14: =IF(B14="","",D14*E14) -> 0 | G14: =IF(B14="","",VLOOKUP($B14,ベース!A:D,4,FALSE)) -> 0 | K14: 2040 | L14: =IF(K14="","",VLOOKUP($K14,ベース!A:D,2,FALSE)) -> 同表紙 | N14: =IF(K14="","",VLOOKUP($K14,ベース!A:D,3,FALSE)) -> 531 | P14: =IF(K14="","",N14*O14) -> 0 | Q14: =IF(K14="","",VLOOKUP($K14,ベース!A:D,4,FALSE)) -> 【A4横】【上4穴】
B15: 1129 | C15: =IF(B15="","",VLOOKUP($B15,ベース!A:D,2,FALSE)) -> 看 護 日 誌 | D15: =IF(B15="","",VLOOKUP($B15,ベース!A:D,3,FALSE)) -> 2674 | F15: =IF(B15="","",D15*E15) -> 0 | G15: =IF(B15="","",VLOOKUP($B15,ベース!A:D,4,FALSE)) -> 0 | K15: 2041 | L15: =IF(K15="","",VLOOKUP($K15,ベース!A:D,2,FALSE)) -> 休暇カード | N15: =IF(K15="","",VLOOKUP($K15,ベース!A:D,3,FALSE)) -> 49 | P15: =IF(K15="","",N15*O15) -> 0 | Q15: =IF(K15="","",VLOOKUP($K15,ベース!A:D,4,FALSE)) -> 暦年【上2穴】
B16: 1133 | C16: =IF(B16="","",VLOOKUP($B16,ベース!A:D,2,FALSE)) -> 保健日誌（中） | D16: =IF(B16="","",VLOOKUP($B16,ベース!A:D,3,FALSE)) -> 2873 | F16: =IF(B16="","",D16*E16) -> 0 | G16: =IF(B16="","",VLOOKUP($B16,ベース!A:D,4,FALSE)) -> 出欠記録３学年 | K16: 2042 | L16: =IF(K16="","",VLOOKUP($K16,ベース!A:D,2,FALSE)) -> 同表紙 | N16: =IF(K16="","",VLOOKUP($K16,ベース!A:D,3,FALSE)) -> 531 | P16: =IF(K16="","",N16*O16) -> 0 | Q16: =IF(K16="","",VLOOKUP($K16,ベース!A:D,4,FALSE)) -> 暦年【上2穴】
B17: 1130 | C17: =IF(B17="","",VLOOKUP($B17,ベース!A:D,2,FALSE)) -> 保健日誌（小・中等） | D17: =IF(B17="","",VLOOKUP($B17,ベース!A:D,3,FALSE)) -> 2873 | F17: =IF(B17="","",D17*E17) -> 0 | G17: =IF(B17="","",VLOOKUP($B17,ベース!A:D,4,FALSE)) -> 出欠記録６学年 | K17: 2043 | L17: =IF(K17="","",VLOOKUP($K17,ベース!A:D,2,FALSE)) -> 研修承認願用紙 | N17: =IF(K17="","",VLOOKUP($K17,ベース!A:D,3,FALSE)) -> 49 | P17: =IF(K17="","",N17*O17) -> 0 | Q17: =IF(K17="","",VLOOKUP($K17,ベース!A:D,4,FALSE)) -> 【上2穴】
B18: 1012 | C18: =IF(B18="","",VLOOKUP($B18,ベース!A:D,2,FALSE)) -> プール管理日誌（旧） | D18: =IF(B18="","",VLOOKUP($B18,ベース!A:D,3,FALSE)) -> 1431 | F18: =IF(B18="","",D18*E18) -> 0 | G18: =IF(B18="","",VLOOKUP($B18,ベース!A:D,4,FALSE)) -> 0 | K18: 2044 | L18: =IF(K18="","",VLOOKUP($K18,ベース!A:D,2,FALSE)) -> 同表紙 | N18: =IF(K18="","",VLOOKUP($K18,ベース!A:D,3,FALSE)) -> 531 | P18: =IF(K18="","",N18*O18) -> 0 | Q18: =IF(K18="","",VLOOKUP($K18,ベース!A:D,4,FALSE)) -> 【上2穴】
B19: 1013 | C19: =IF(B19="","",VLOOKUP($B19,ベース!A:D,2,FALSE)) -> プール管理日誌（改訂版） | D19: =IF(B19="","",VLOOKUP($B19,ベース!A:D,3,FALSE)) -> 2431 | F19: =IF(B19="","",D19*E19) -> 0 | G19: =IF(B19="","",VLOOKUP($B19,ベース!A:D,4,FALSE)) -> 0 | K19: 2045 | L19: =IF(K19="","",VLOOKUP($K19,ベース!A:D,2,FALSE)) -> 研修承認整理簿用紙 | N19: =IF(K19="","",VLOOKUP($K19,ベース!A:D,3,FALSE)) -> 49 | P19: =IF(K19="","",N19*O19) -> 0 | Q19: =IF(K19="","",VLOOKUP($K19,ベース!A:D,4,FALSE)) -> 【左4穴】
B20: 1131 | C20: =IF(B20="","",VLOOKUP($B20,ベース!A:D,2,FALSE)) -> 給 食 日 誌 | D20: =IF(B20="","",VLOOKUP($B20,ベース!A:D,3,FALSE)) -> 2873 | F20: =IF(B20="","",D20*E20) -> 0 | G20: =IF(B20="","",VLOOKUP($B20,ベース!A:D,4,FALSE)) -> 0 | K20: 2046 | L20: =IF(K20="","",VLOOKUP($K20,ベース!A:D,2,FALSE)) -> 同表紙 | N20: =IF(K20="","",VLOOKUP($K20,ベース!A:D,3,FALSE)) -> 531 | P20: =IF(K20="","",N20*O20) -> 0 | Q20: =IF(K20="","",VLOOKUP($K20,ベース!A:D,4,FALSE)) -> 【左4穴】
... B26: 1150 | C26: =IF(B26="","",VLOOKUP($B26,ベース!A:D,2,FALSE)) -> 学校日誌 表紙（コンピュータ出力用） | D26: =IF(B26="","",VLOOKUP($B26,ベース!A:D,3,FALSE)) -> 531 | F26: =IF(B26="","",D26*E26) -> 0 | G26: =IF(B26="","",VLOOKUP($B26,ベース!A:D,4,FALSE)) -> 【左2穴】 | K26: 2126 | L26: =IF(K26="","",VLOOKUP($K26,ベース!A:D,2,FALSE)) -> 同表紙 | N26: =IF(K26="","",VLOOKUP($K26,ベース!A:D,3,FALSE)) -> 531 | P26: =IF(K26="","",N26*O26) -> 0 | Q26: =IF(K26="","",VLOOKUP($K26,ベース!A:D,4,FALSE)) -> 暦年【上2穴】
B27: 1151 | C27: =IF(B27="","",VLOOKUP($B27,ベース!A:D,2,FALSE)) -> 当直日誌 表紙（コンピュータ出力用） | D27: =IF(B27="","",VLOOKUP($B27,ベース!A:D,3,FALSE)) -> 531 | F27: =IF(B27="","",D27*E27) -> 0 | G27: =IF(B27="","",VLOOKUP($B27,ベース!A:D,4,FALSE)) -> 【左2穴】 | L27: =IF(K27="","",VLOOKUP($K27,ベース!A:D,2,FALSE)) | N27: =IF(K27="","",VLOOKUP($K27,ベース!A:D,3,FALSE)) | P27: =IF(K27="","",N27*O27) | Q27: =IF(K27="","",VLOOKUP($K27,ベース!A:D,4,FALSE))
B28: 1152 | C28: =IF(B28="","",VLOOKUP($B28,ベース!A:D,2,FALSE)) -> 防火日誌 表紙（コンピュータ出力用） | D28: =IF(B28="","",VLOOKUP($B28,ベース!A:D,3,FALSE)) -> 531 | F28: =IF(B28="","",D28*E28) -> 0 | G28: =IF(B28="","",VLOOKUP($B28,ベース!A:D,4,FALSE)) -> 【左2穴】 | J28: ４児童・生徒 | K28: 4067 | L28: =IF(K28="","",VLOOKUP($K28,ベース!A:D,2,FALSE)) -> 生徒指導要録用紙（様式1・様式2） | N28: =IF(K28="","",VLOOKUP($K28,ベース!A:D,3,FALSE)) -> 104 | P28: =IF(K28="","",N28*O28) -> 0 | Q28: =IF(K28="","",VLOOKUP($K28,ベース!A:D,4,FALSE)) -> 1セット 1人分【左4穴】
B29: 1153 | C29: =IF(B29="","",VLOOKUP($B29,ベース!A:D,2,FALSE)) -> 看護日誌 表紙（コンピュータ出力用） | D29: =IF(B29="","",VLOOKUP($B29,ベース!A:D,3,FALSE)) -> 531 | F29: =IF(B29="","",D29*E29) -> 0 | G29: =IF(B29="","",VLOOKUP($B29,ベース!A:D,4,FALSE)) -> 【左2穴】 | K29: 4069 | L29: =IF(K29="","",VLOOKUP($K29,ベース!A:D,2,FALSE)) -> 中学部生徒指導要録用紙（知的障害用 様式1・様式2） | N29: =IF(K29="","",VLOOKUP($K29,ベース!A:D,3,FALSE)) -> 104 | P29: =IF(K29="","",N29*O29) -> 0 | Q29: =IF(K29="","",VLOOKUP($K29,ベース!A:D,4,FALSE)) -> 1セット 1人分 【左4穴】
B30: 1154 | C30: =IF(B30="","",VLOOKUP($B30,ベース!A:D,2,FALSE)) -> 保健日誌 表紙（コンピュータ出力用） | D30: =IF(B30="","",VLOOKUP($B30,ベース!A:D,3,FALSE)) -> 531 | F30: =IF(B30="","",D30*E30) -> 0 | G30: =IF(B30="","",VLOOKUP($B30,ベース!A:D,4,FALSE)) -> 【左2穴】 | K30: 4071 | L30: =IF(K30="","",VLOOKUP($K30,ベース!A:D,2,FALSE)) -> 指導要録表紙／小・中／学 籍 | N30: =IF(K30="","",VLOOKUP($K30,ベース!A:D,3,FALSE)) -> 613 | P30: =IF(K30="","",N30*O30) -> 0 | Q30: =IF(K30="","",VLOOKUP($K30,ベース!A:D,4,FALSE)) -> 前付2枚付【左4穴】
B31: 1155 | C31: =IF(B31="","",VLOOKUP($B31,ベース!A:D,2,FALSE)) -> 給食日誌 表紙（コンピュータ出力用） | D31: =IF(B31="","",VLOOKUP($B31,ベース!A:D,3,FALSE)) -> 531 | F31: =IF(B31="","",D31*E31) -> 0 | G31: =IF(B31="","",VLOOKUP($B31,ベース!A:D,4,FALSE)) -> 【左2穴】 | K31: 4073 | L31: =IF(K31="","",VLOOKUP($K31,ベース!A:D,2,FALSE)) -> 指導要録表紙／小・中／指 導 | N31: =IF(K31="","",VLOOKUP($K31,ベース!A:D,3,FALSE)) -> 613 | P31: =IF(K31="","",N31*O31) -> 0 | Q31: =IF(K31="","",VLOOKUP($K31,ベース!A:D,4,FALSE)) -> 前付2枚付【左4穴】
B32: 1156 | C32: =IF(B32="","",VLOOKUP($B32,ベース!A:D,2,FALSE)) -> プール管理日誌 表紙（コンピュータ出力用） | D32: =IF(B32="","",VLOOKUP($B32,ベース!A:D,3,FALSE)) -> 531 | F32: =IF(B32="","",D32*E32) -> 0 | G32: =IF(B32="","",VLOOKUP($B32,ベース!A:D,4,FALSE)) -> 【左2穴】 | K32: 4072 | L32: =IF(K32="","",VLOOKUP($K32,ベース!A:D,2,FALSE)) -> 指導要録前付 | N32: =IF(K32="","",VLOOKUP($K32,ベース!A:D,3,FALSE)) -> 25 | P32: =IF(K32="","",N32*O32) -> 0 | Q32: =IF(K32="","",VLOOKUP($K32,ベース!A:D,4,FALSE)) -> 【左4穴】
B33: 1157 | C33: =IF(B33="","",VLOOKUP($B33,ベース!A:D,2,FALSE)) -> 学校医執務記録簿 表紙（コンピュータ出力用） | D33: =IF(B33="","",VLOOKUP($B33,ベース!A:D,3,FALSE)) -> 531 | F33: =IF(B33="","",D33*E33) -> 0 | G33: =IF(B33="","",VLOOKUP($B33,ベース!A:D,4,FALSE)) -> 【左2穴】 | K33: 4082 | L33: =IF(K33="","",VLOOKUP($K33,ベース!A:D,2,FALSE)) -> 横型〈男女別〉出席簿用紙 | N33: =IF(K33="","",VLOOKUP($K33,ベース!A:D,3,FALSE)) -> 49 | P33: =IF(K33="","",N33*O33) -> 0 | Q33: =IF(K33="","",VLOOKUP($K33,ベース!A:D,4,FALSE)) -> 【A4横】【左4穴】
B34: 1158 | C34: =IF(B34="","",VLOOKUP($B34,ベース!A:D,2,FALSE)) -> 学校歯科医執務記録簿 表紙（コンピュータ出力用） | D34: =IF(B34="","",VLOOKUP($B34,ベース!A:D,3,FALSE)) -> 531 | F34: =IF(B34="","",D34*E34) -> 0 | G34: =IF(B34="","",VLOOKUP($B34,ベース!A:D,4,FALSE)) -> 【左2穴】 | K34: 4083 | L34: =IF(K34="","",VLOOKUP($K34,ベース!A:D,2,FALSE)) -> 横型〈男女別〉出席簿表紙 | N34: =IF(K34="","",VLOOKUP($K34,ベース!A:D,3,FALSE)) -> 590 | P34: =IF(K34="","",N34*O34) -> 0 | Q34: =IF(K34="","",VLOOKUP($K34,ベース!A:D,4,FALSE)) -> 前付1枚付/令7凡例一部変更【A4横】【左4穴】
B35: 1159 | C35: =IF(B35="","",VLOOKUP($B35,ベース!A:D,2,FALSE)) -> 学校薬剤師執務記録簿 表紙（コンピュータ出力用） | D35: =IF(B35="","",VLOOKUP($B35,ベース!A:D,3,FALSE)) -> 531 | F35: =IF(B35="","",D35*E35) -> 0 | G35: =IF(B35="","",VLOOKUP($B35,ベース!A:D,4,FALSE)) -> 【左2穴】 | K35: 4130 | L35: =IF(K35="","",VLOOKUP($K35,ベース!A:D,2,FALSE)) -> 出席簿表紙（コンピュータ出力用） | N35: =IF(K35="","",VLOOKUP($K35,ベース!A:D,3,FALSE)) -> 531 | P35: =IF(K35="","",N35*O35) -> 0 | Q35: =IF(K35="","",VLOOKUP($K35,ベース!A:D,4,FALSE)) -> 【A4横】【左2穴】
B36: 1160 | C36: =IF(B36="","",VLOOKUP($B36,ベース!A:D,2,FALSE)) -> 理科薬品関係受払簿（冊子） | D36: =IF(B36="","",VLOOKUP($B36,ベース!A:D,3,FALSE)) -> 2700 | F36: =IF(B36="","",D36*E36) -> 0 | G36: =IF(B36="","",VLOOKUP($B36,ベース!A:D,4,FALSE)) -> 記入例1枚・受払簿用紙50枚 点検一覧表4枚付 | K36: 4085 | L36: =IF(K36="","",VLOOKUP($K36,ベース!A:D,2,FALSE)) -> 縦型〈男女混合〉出席簿用紙 | N36: =IF(K36="","",VLOOKUP($K36,ベース!A:D,3,FALSE)) -> 49 | P36: =IF(K36="","",N36*O36) -> 0 | Q36: =IF(K36="","",VLOOKUP($K36,ベース!A:D,4,FALSE)) -> 0
B37: 1161 | C37: =IF(B37="","",VLOOKUP($B37,ベース!A:D,2,FALSE)) -> 理科薬品関係受払簿表紙 | D37: =IF(B37="","",VLOOKUP($B37,ベース!A:D,3,FALSE)) -> 531 | F37: =IF(B37="","",D37*E37) -> 0 | G37: =IF(B37="","",VLOOKUP($B37,ベース!A:D,4,FALSE)) -> 記入例1枚 【左2穴】 | K37: 4086 | L37: =IF(K37="","",VLOOKUP($K37,ベース!A:D,2,FALSE)) -> 縦型〈男女混合〉出席簿表紙 | N37: =IF(K37="","",VLOOKUP($K37,ベース!A:D,3,FALSE)) -> 590 | P37: =IF(K37="","",N37*O37) -> 0 | Q37: =IF(K37="","",VLOOKUP($K37,ベース!A:D,4,FALSE)) -> 前付1枚付/令7凡例一部変更【左4穴】
B38: 1161-2 | C38: =IF(B38="","",VLOOKUP($B38,ベース!A:D,2,FALSE)) -> 理科薬品関係点検一覧表用紙 | D38: =IF(B38="","",VLOOKUP($B38,ベース!A:D,3,FALSE)) -> 49 | F38: =IF(B38="","",D38*E38) -> 0 | G38: =IF(B38="","",VLOOKUP($B38,ベース!A:D,4,FALSE)) -> 【左2穴】 | K38: 4140 | L38: =IF(K38="","",VLOOKUP($K38,ベース!A:D,2,FALSE)) -> 出席簿表紙（コンピュータ出力用） | N38: =IF(K38="","",VLOOKUP($K38,ベース!A:D,3,FALSE)) -> 531 | P38: =IF(K38="","",N38*O38) -> 0 | Q38: =IF(K38="","",VLOOKUP($K38,ベース!A:D,4,FALSE)) -> 【左2穴】
B39: 1161-3 | C39: =IF(B39="","",VLOOKUP($B39,ベース!A:D,2,FALSE)) -> 理科薬品関係受払簿用紙 | D39: =IF(B39="","",VLOOKUP($B39,ベース!A:D,3,FALSE)) -> 49 | F39: =IF(B39="","",D39*E39) -> 0 | G39: =IF(B39="","",VLOOKUP($B39,ベース!A:D,4,FALSE)) -> 【左2穴】 | K39: 4098 | L39: =IF(K39="","",VLOOKUP($K39,ベース!A:D,2,FALSE)) -> 児童・生徒健康診断票（小・中・義） | N39: =IF(K39="","",VLOOKUP($K39,ベース!A:D,3,FALSE)) -> 49 | P39: =IF(K39="","",N39*O39) -> 0 | Q39: =IF(K39="","",VLOOKUP($K39,ベース!A:D,4,FALSE)) -> 【上2穴】
C40: =IF(B40="","",VLOOKUP($B40,ベース!A:D,2,FALSE)) | D40: =IF(B40="","",VLOOKUP($B40,ベース!A:D,3,FALSE)) | F40: =IF(B40="","",D40*E40) | G40: =IF(B40="","",VLOOKUP($B40,ベース!A:D,4,FALSE)) | K40: 4099 | L40: =IF(K40="","",VLOOKUP($K40,ベース!A:D,2,FALSE)) -> 同 表 紙（小・中） | N40: =IF(K40="","",VLOOKUP($K40,ベース!A:D,3,FALSE)) -> 493 | P40: =IF(K40="","",N40*O40) -> 0 | Q40: =IF(K40="","",VLOOKUP($K40,ベース!A:D,4,FALSE)) -> 記入例令8一部変更1枚・前付2枚付【上2穴】
C41: =IF(B41="","",VLOOKUP($B41,ベース!A:D,2,FALSE)) | D41: =IF(B41="","",VLOOKUP($B41,ベース!A:D,3,FALSE)) | F41: =IF(B41="","",D41*E41) | G41: =IF(B41="","",VLOOKUP($B41,ベース!A:D,4,FALSE)) | K41: 4100 | L41: =IF(K41="","",VLOOKUP($K41,ベース!A:D,2,FALSE)) -> 児童・生徒健康診断票前付（小・中・義） | N41: =IF(K41="","",VLOOKUP($K41,ベース!A:D,3,FALSE)) -> 25 | P41: =IF(K41="","",N41*O41) -> 0 | Q41: =IF(K41="","",VLOOKUP($K41,ベース!A:D,4,FALSE)) -> 【上2穴】
K42: 4141 | L42: =IF(K42="","",VLOOKUP($K42,ベース!A:D,2,FALSE)) -> 同表紙（コンピュータ出力用） | N42: =IF(K42="","",VLOOKUP($K42,ベース!A:D,3,FALSE)) -> 493 | P42: =IF(K42="","",N42*O42) -> 0 | Q42: =IF(K42="","",VLOOKUP($K42,ベース!A:D,4,FALSE)) -> 記入例1枚・前付2枚付【左2穴】
A43: 他の校種（例えば義務教育学校で小学校の用紙に小・中まとめる）をまとめて入力する場合「小・中まとめて入力」と通信欄に記入願います。 | K43: 4107 | L43: =IF(K43="","",VLOOKUP($K43,ベース!A:D,2,FALSE)) -> 卒業証書台帳 | N43: =IF(K43="","",VLOOKUP($K43,ベース!A:D,3,FALSE)) -> 4581 | P43: =IF(K43="","",N43*O43) -> 0 | Q43: =IF(K43="","",VLOOKUP($K43,ベース!A:D,4,FALSE)) -> 100枚綴【左4穴】表紙・用紙セット
K44: 4107-1 | L44: =IF(K44="","",VLOOKUP($K44,ベース!A:D,2,FALSE)) -> 同表紙 | N44: =IF(K44="","",VLOOKUP($K44,ベース!A:D,3,FALSE)) -> 2149 | P44: =IF(K44="","",N44*O44) -> 0 | Q44: =IF(K44="","",VLOOKUP($K44,ベース!A:D,4,FALSE)) -> 【左4穴】
A45: 通信欄： | K45: 4119 | L45: =IF(K45="","",VLOOKUP($K45,ベース!A:D,2,FALSE)) -> 卒業証書台帳用紙 | N45: =IF(K45="","",VLOOKUP($K45,ベース!A:D,3,FALSE)) -> 38 | P45: =IF(K45="","",N45*O45) -> 0 | Q45: =IF(K45="","",VLOOKUP($K45,ベース!A:D,4,FALSE)) -> 【左4穴】
K46: 4109 | L46: =IF(K46="","",VLOOKUP($K46,ベース!A:D,2,FALSE)) -> 証明書交付台帳 | N46: =IF(K46="","",VLOOKUP($K46,ベース!A:D,3,FALSE)) -> 2208 | P46: =IF(K46="","",N46*O46) -> 0 | Q46: =IF(K46="","",VLOOKUP($K46,ベース!A:D,4,FALSE)) -> 0
...

Sheet （高等学校用）
A1: =ベース!A1 -> 令和９年度用 | C1: =ベース!B1 -> 表簿・用紙申込書 | J1: 茨城県教育会 記 入 欄 | Q1: =ベース!D1 -> 令和８年 月 日
N3: 立 | R3: 高等学校
B4: （高等学校用）
L5: 学校電話番号 | P5: 事務担当者名
A6: 電子メールでお申込みの場合この用紙にご入力して、添付ファイルで送信願います。
B7: 商品番号 | C7: 商 品 名 | D7: 単 価 | E7: 数 量 | F7: 金 額 | G7: 備 考 | K7: 商品番号 | L7: 商 品 名 | N7: 単 価 | O7: 数 量 | P7: 金 額 | Q7: 備 考
A8: １学校の管理運営 | B8: 1001 | C8: =IF(B8="","",VLOOKUP($B8,ベース!A:D,2,FALSE)) -> 学校沿革誌 | D8: =IF(B8="","",VLOOKUP($B8,ベース!A:D,3,FALSE)) -> 5949 | F8: =IF(B8="","",D8*E8) -> 0 | G8: =IF(B8="","",VLOOKUP($B8,ベース!A:D,4,FALSE)) -> 100枚綴【右4穴】表紙・用紙セット | J8: ２教職員 | K8: 2032 | L8: =IF(K8="","",VLOOKUP($K8,ベース!A:D,2,FALSE)) -> 職員出勤簿用紙 | N8: =IF(K8="","",VLOOKUP($K8,ベース!A:D,3,FALSE)) -> 138 | P8: =IF(K8="","",N8*O8) -> 0 | Q8: =IF(K8="","",VLOOKUP($K8,ベース!A:D,4,FALSE)) -> 【B4横】【左4穴】
B9: 1001-1 | C9: =IF(B9="","",VLOOKUP($B9,ベース!A:D,2,FALSE)) -> 学校沿革誌表紙 | D9: =IF(B9="","",VLOOKUP($B9,ベース!A:D,3,FALSE)) -> 2149 | F9: =IF(B9="","",D9*E9) -> 0 | G9: =IF(B9="","",VLOOKUP($B9,ベース!A:D,4,FALSE)) -> 【右4穴】 | K9: 2033 | L9: =IF(K9="","",VLOOKUP($K9,ベース!A:D,2,FALSE)) -> 同表紙（ボール） | N9: =IF(K9="","",VLOOKUP($K9,ベース!A:D,3,FALSE)) -> 821 | P9: =IF(K9="","",N9*O9) -> 0 | Q9: =IF(K9="","",VLOOKUP($K9,ベース!A:D,4,FALSE)) -> 【B4横】【左4穴】
B10: 1022 | C10: =IF(B10="","",VLOOKUP($B10,ベース!A:D,2,FALSE)) -> 学校沿革誌用紙 | D10: =IF(B10="","",VLOOKUP($B10,ベース!A:D,3,FALSE)) -> 38 | F10: =IF(B10="","",D10*E10) -> 0 | G10: =IF(B10="","",VLOOKUP($B10,ベース!A:D,4,FALSE)) -> 用紙はマニラ仙貨【右4穴】 | K10: 2034 | L10: =IF(K10="","",VLOOKUP($K10,ベース!A:D,2,FALSE)) -> 同表紙（総クロス） | N10: =IF(K10="","",VLOOKUP($K10,ベース!A:D,3,FALSE)) -> 1802 | P10: =IF(K10="","",N10*O10) -> 0 | Q10: =IF(K10="","",VLOOKUP($K10,ベース!A:D,4,FALSE)) -> 【B4横】【左4穴】
B11: 1134 | C11: =IF(B11="","",VLOOKUP($B11,ベース!A:D,2,FALSE)) -> 学校日誌（高） | D11: =IF(B11="","",VLOOKUP($B11,ベース!A:D,3,FALSE)) -> 2873 | F11: =IF(B11="","",D11*E11) -> 0 | G11: =IF(B11="","",VLOOKUP($B11,ベース!A:D,4,FALSE)) -> 出欠記録３学年 | K11: 2035 | L11: =IF(K11="","",VLOOKUP($K11,ベース!A:D,2,FALSE)) -> 職員健康診断票 | N11: =IF(K11="","",VLOOKUP($K11,ベース!A:D,3,FALSE)) -> 76 | P11: =IF(K11="","",N11*O11) -> 0 | Q11: =IF(K11="","",VLOOKUP($K11,ベース!A:D,4,FALSE)) -> 【上2穴】
B12: 1137 | C12: =IF(B12="","",VLOOKUP($B12,ベース!A:D,2,FALSE)) -> 学校日誌（中等教育学校） | D12: =IF(B12="","",VLOOKUP($B12,ベース!A:D,3,FALSE)) -> 2873 | F12: =IF(B12="","",D12*E12) -> 0 | G12: =IF(B12="","",VLOOKUP($B12,ベース!A:D,4,FALSE)) -> 出欠記録６学年 | K12: 2036 | L12: =IF(K12="","",VLOOKUP($K12,ベース!A:D,2,FALSE)) -> 同表紙 | N12: =IF(K12="","",VLOOKUP($K12,ベース!A:D,3,FALSE)) -> 531 | P12: =IF(K12="","",N12*O12) -> 0 | Q12: =IF(K12="","",VLOOKUP($K12,ベース!A:D,4,FALSE)) -> 【上2穴】
B13: 1135 | C13: =IF(B13="","",VLOOKUP($B13,ベース!A:D,2,FALSE)) -> 当 直 日 誌 | D13: =IF(B13="","",VLOOKUP($B13,ベース!A:D,3,FALSE)) -> 2873 | F13: =IF(B13="","",D13*E13) -> 0 | G13: =IF(B13="","",VLOOKUP($B13,ベース!A:D,4,FALSE)) -> 0 | K13: 2039 | L13: =IF(K13="","",VLOOKUP($K13,ベース!A:D,2,FALSE)) -> 週休日の振替え簿用紙 | N13: =IF(K13="","",VLOOKUP($K13,ベース!A:D,3,FALSE)) -> 49 | P13: =IF(K13="","",N13*O13) -> 0 | Q13: =IF(K13="","",VLOOKUP($K13,ベース!A:D,4,FALSE)) -> 【A4横】【上4穴】
B14: 1128 | C14: =IF(B14="","",VLOOKUP($B14,ベース!A:D,2,FALSE)) -> 防 火 日 誌 | D14: =IF(B14="","",VLOOKUP($B14,ベース!A:D,3,FALSE)) -> 2873 | F14: =IF(B14="","",D14*E14) -> 0 | G14: =IF(B14="","",VLOOKUP($B14,ベース!A:D,4,FALSE)) -> 0 | K14: 2040 | L14: =IF(K14="","",VLOOKUP($K14,ベース!A:D,2,FALSE)) -> 同表紙 | N14: =IF(K14="","",VLOOKUP($K14,ベース!A:D,3,FALSE)) -> 531 | P14: =IF(K14="","",N14*O14) -> 0 | Q14: =IF(K14="","",VLOOKUP($K14,ベース!A:D,4,FALSE)) -> 【A4横】【上4穴】
B15: 1136 | C15: =IF(B15="","",VLOOKUP($B15,ベース!A:D,2,FALSE)) -> 保健日誌（高等部） | D15: =IF(B15="","",VLOOKUP($B15,ベース!A:D,3,FALSE)) -> 2873 | F15: =IF(B15="","",D15*E15) -> 0 | G15: =IF(B15="","",VLOOKUP($B15,ベース!A:D,4,FALSE)) -> 欠席記録 無 | K15: 2041 | L15: =IF(K15="","",VLOOKUP($K15,ベース!A:D,2,FALSE)) -> 休暇カード | N15: =IF(K15="","",VLOOKUP($K15,ベース!A:D,3,FALSE)) -> 49 | P15: =IF(K15="","",N15*O15) -> 0 | Q15: =IF(K15="","",VLOOKUP($K15,ベース!A:D,4,FALSE)) -> 暦年【上2穴】
B16: 1130 | C16: =IF(B16="","",VLOOKUP($B16,ベース!A:D,2,FALSE)) -> 保健日誌（小・中等） | D16: =IF(B16="","",VLOOKUP($B16,ベース!A:D,3,FALSE)) -> 2873 | F16: =IF(B16="","",D16*E16) -> 0 | G16: =IF(B16="","",VLOOKUP($B16,ベース!A:D,4,FALSE)) -> 出欠記録６学年 | K16: 2042 | L16: =IF(K16="","",VLOOKUP($K16,ベース!A:D,2,FALSE)) -> 同表紙 | N16: =IF(K16="","",VLOOKUP($K16,ベース!A:D,3,FALSE)) -> 531 | P16: =IF(K16="","",N16*O16) -> 0 | Q16: =IF(K16="","",VLOOKUP($K16,ベース!A:D,4,FALSE)) -> 暦年【上2穴】
B17: 1012 | C17: =IF(B17="","",VLOOKUP($B17,ベース!A:D,2,FALSE)) -> プール管理日誌（旧） | D17: =IF(B17="","",VLOOKUP($B17,ベース!A:D,3,FALSE)) -> 1431 | F17: =IF(B17="","",D17*E17) -> 0 | G17: =IF(B17="","",VLOOKUP($B17,ベース!A:D,4,FALSE)) -> 0 | K17: 2043 | L17: =IF(K17="","",VLOOKUP($K17,ベース!A:D,2,FALSE)) -> 研修承認願用紙 | N17: =IF(K17="","",VLOOKUP($K17,ベース!A:D,3,FALSE)) -> 49 | P17: =IF(K17="","",N17*O17) -> 0 | Q17: =IF(K17="","",VLOOKUP($K17,ベース!A:D,4,FALSE)) -> 【上2穴】
B18: 1013 | C18: =IF(B18="","",VLOOKUP($B18,ベース!A:D,2,FALSE)) -> プール管理日誌（改訂版） | D18: =IF(B18="","",VLOOKUP($B18,ベース!A:D,3,FALSE)) -> 2431 | F18: =IF(B18="","",D18*E18) -> 0 | G18: =IF(B18="","",VLOOKUP($B18,ベース!A:D,4,FALSE)) -> 0 | K18: 2044 | L18: =IF(K18="","",VLOOKUP($K18,ベース!A:D,2,FALSE)) -> 同表紙 | N18: =IF(K18="","",VLOOKUP($K18,ベース!A:D,3,FALSE)) -> 531 | P18: =IF(K18="","",N18*O18) -> 0 | Q18: =IF(K18="","",VLOOKUP($K18,ベース!A:D,4,FALSE)) -> 【上2穴】
B19: 1015 | C19: =IF(B19="","",VLOOKUP($B19,ベース!A:D,2,FALSE)) -> 文書収受配付簿 | D19: =IF(B19="","",VLOOKUP($B19,ベース!A:D,3,FALSE)) -> 2653 | F19: =IF(B19="","",D19*E19) -> 0 | G19: =IF(B19="","",VLOOKUP($B19,ベース!A:D,4,FALSE)) -> 暦年 | K19: 2045 | L19: =IF(K19="","",VLOOKUP($K19,ベース!A:D,2,FALSE)) -> 研修承認整理簿用紙 | N19: =IF(K19="","",VLOOKUP($K19,ベース!A:D,3,FALSE)) -> 49 | P19: =IF(K19="","",N19*O19) -> 0 | Q19: =IF(K19="","",VLOOKUP($K19,ベース!A:D,4,FALSE)) -> 【左4穴】
B20: 1017 | C20: =IF(B20="","",VLOOKUP($B20,ベース!A:D,2,FALSE)) -> 文書発送簿 | D20: =IF(B20="","",VLOOKUP($B20,ベース!A:D,3,FALSE)) -> 2653 | F20: =IF(B20="","",D20*E20) -> 0 | G20: =IF(B20="","",VLOOKUP($B20,ベース!A:D,4,FALSE)) -> 暦年 | K20: 2046 | L20: =IF(K20="","",VLOOKUP($K20,ベース!A:D,2,FALSE)) -> 同表紙 | N20: =IF(K20="","",VLOOKUP($K20,ベース!A:D,3,FALSE)) -> 531 | P20: =IF(K20="","",N20*O20) -> 0 | Q20: =IF(K20="","",VLOOKUP($K20,ベース!A:D,4,FALSE)) -> 【左4穴】
... B22: 1019 | C22: =IF(B22="","",VLOOKUP($B22,ベース!A:D,2,FALSE)) -> 学校歯科医執務記録簿 | D22: =IF(B22="","",VLOOKUP($B22,ベース!A:D,3,FALSE)) -> 2541 | F22: =IF(B22="","",D22*E22) -> 0 | G22: =IF(B22="","",VLOOKUP($B22,ベース!A:D,4,FALSE)) -> 0 | K22: 2126 | L22: =IF(K22="","",VLOOKUP($K22,ベース!A:D,2,FALSE)) -> 同表紙 | N22: =IF(K22="","",VLOOKUP($K22,ベース!A:D,3,FALSE)) -> 531 | P22: =IF(K22="","",N22*O22) -> 0 | Q22: =IF(K22="","",VLOOKUP($K22,ベース!A:D,4,FALSE)) -> 暦年【上2穴】
B23: 1020 | C23: =IF(B23="","",VLOOKUP($B23,ベース!A:D,2,FALSE)) -> 学校薬剤師執務記録簿 | D23: =IF(B23="","",VLOOKUP($B23,ベース!A:D,3,FALSE)) -> 2541 | F23: =IF(B23="","",D23*E23) -> 0 | G23: =IF(B23="","",VLOOKUP($B23,ベース!A:D,4,FALSE)) -> 0 | L23: =IF(K23="","",VLOOKUP($K23,ベース!A:D,2,FALSE)) | N23: =IF(K23="","",VLOOKUP($K23,ベース!A:D,3,FALSE)) | P23: =IF(K23="","",N23*O23) | Q23: =IF(K23="","",VLOOKUP($K23,ベース!A:D,4,FALSE))
B24: 1150 | C24: =IF(B24="","",VLOOKUP($B24,ベース!A:D,2,FALSE)) -> 学校日誌 表紙（コンピュータ出力用） | D24: =IF(B24="","",VLOOKUP($B24,ベース!A:D,3,FALSE)) -> 531 | F24: =IF(B24="","",D24*E24) -> 0 | G24: =IF(B24="","",VLOOKUP($B24,ベース!A:D,4,FALSE)) -> 【左2穴】 | L24: =IF(K24="","",VLOOKUP($K24,ベース!A:D,2,FALSE)) | N24: =IF(K24="","",VLOOKUP($K24,ベース!A:D,3,FALSE)) | P24: =IF(K24="","",N24*O24) | Q24: =IF(K24="","",VLOOKUP($K24,ベース!A:D,4,FALSE))
B25: 1151 | C25: =IF(B25="","",VLOOKUP($B25,ベース!A:D,2,FALSE)) -> 当直日誌 表紙（コンピュータ出力用） | D25: =IF(B25="","",VLOOKUP($B25,ベース!A:D,3,FALSE)) -> 531 | F25: =IF(B25="","",D25*E25) -> 0 | G25: =IF(B25="","",VLOOKUP($B25,ベース!A:D,4,FALSE)) -> 【左2穴】 | L25: =IF(K25="","",VLOOKUP($K25,ベース!A:D,2,FALSE)) | N25: =IF(K25="","",VLOOKUP($K25,ベース!A:D,3,FALSE)) | P25: =IF(K25="","",N25*O25) | Q25: =IF(K25="","",VLOOKUP($K25,ベース!A:D,4,FALSE))
B26: 1152 | C26: =IF(B26="","",VLOOKUP($B26,ベース!A:D,2,FALSE)) -> 防火日誌 表紙（コンピュータ出力用） | D26: =IF(B26="","",VLOOKUP($B26,ベース!A:D,3,FALSE)) -> 531 | F26: =IF(B26="","",D26*E26) -> 0 | G26: =IF(B26="","",VLOOKUP($B26,ベース!A:D,4,FALSE)) -> 【左2穴】 | L26: =IF(K26="","",VLOOKUP($K26,ベース!A:D,2,FALSE)) | N26: =IF(K26="","",VLOOKUP($K26,ベース!A:D,3,FALSE)) | P26: =IF(K26="","",N26*O26) | Q26: =IF(K26="","",VLOOKUP($K26,ベース!A:D,4,FALSE))
B27: 1153 | C27: =IF(B27="","",VLOOKUP($B27,ベース!A:D,2,FALSE)) -> 看護日誌 表紙（コンピュータ出力用） | D27: =IF(B27="","",VLOOKUP($B27,ベース!A:D,3,FALSE)) -> 531 | F27: =IF(B27="","",D27*E27) -> 0 | G27: =IF(B27="","",VLOOKUP($B27,ベース!A:D,4,FALSE)) -> 【左2穴】 | L27: =IF(K27="","",VLOOKUP($K27,ベース!A:D,2,FALSE)) | N27: =IF(K27="","",VLOOKUP($K27,ベース!A:D,3,FALSE)) | P27: =IF(K27="","",N27*O27) | Q27: =IF(K27="","",VLOOKUP($K27,ベース!A:D,4,FALSE))
B28: 1154 | C28: =IF(B28="","",VLOOKUP($B28,ベース!A:D,2,FALSE)) -> 保健日誌 表紙（コンピュータ出力用） | D28: =IF(B28="","",VLOOKUP($B28,ベース!A:D,3,FALSE)) -> 531 | F28: =IF(B28="","",D28*E28) -> 0 | G28: =IF(B28="","",VLOOKUP($B28,ベース!A:D,4,FALSE)) -> 【左2穴】 | J28: ４生徒 | K28: 4077 | L28: =IF(K28="","",VLOOKUP($K28,ベース!A:D,2,FALSE)) -> 指導要録表紙学籍（クロス） | N28: =IF(K28="","",VLOOKUP($K28,ベース!A:D,3,FALSE)) -> 1707 | P28: =IF(K28="","",N28*O28) -> 0 | Q28: =IF(K28="","",VLOOKUP($K28,ベース!A:D,4,FALSE)) -> 前付２枚付【左4穴】
B29: 1155 | C29: =IF(B29="","",VLOOKUP($B29,ベース!A:D,2,FALSE)) -> 給食日誌 表紙（コンピュータ出力用） | D29: =IF(B29="","",VLOOKUP($B29,ベース!A:D,3,FALSE)) -> 531 | F29: =IF(B29="","",D29*E29) -> 0 | G29: =IF(B29="","",VLOOKUP($B29,ベース!A:D,4,FALSE)) -> 【左2穴】 | K29: 4078 | L29: =IF(K29="","",VLOOKUP($K29,ベース!A:D,2,FALSE)) -> 指導要録表紙指導（クロス） | N29: =IF(K29="","",VLOOKUP($K29,ベース!A:D,3,FALSE)) -> 1707 | P29: =IF(K29="","",N29*O29) -> 0 | Q29: =IF(K29="","",VLOOKUP($K29,ベース!A:D,4,FALSE)) -> 前付２枚付【左4穴】
B30: 1156 | C30: =IF(B30="","",VLOOKUP($B30,ベース!A:D,2,FALSE)) -> プール管理日誌 表紙（コンピュータ出力用） | D30: =IF(B30="","",VLOOKUP($B30,ベース!A:D,3,FALSE)) -> 531 | F30: =IF(B30="","",D30*E30) -> 0 | G30: =IF(B30="","",VLOOKUP($B30,ベース!A:D,4,FALSE)) -> 【左2穴】 | K30: 4092 | L30: =IF(K30="","",VLOOKUP($K30,ベース!A:D,2,FALSE)) -> 縦型（高）出席簿用紙（甲） | N30: =IF(K30="","",VLOOKUP($K30,ベース!A:D,3,FALSE)) -> 84 | P30: =IF(K30="","",N30*O30) -> 0 | Q30: =IF(K30="","",VLOOKUP($K30,ベース!A:D,4,FALSE)) -> 氏名・学期累計【左4穴】
B31: 1157 | C31: =IF(B31="","",VLOOKUP($B31,ベース!A:D,2,FALSE)) -> 学校医執務記録簿 表紙（コンピュータ出力用） | D31: =IF(B31="","",VLOOKUP($B31,ベース!A:D,3,FALSE)) -> 531 | F31: =IF(B31="","",D31*E31) -> 0 | G31: =IF(B31="","",VLOOKUP($B31,ベース!A:D,4,FALSE)) -> 【左2穴】 | K31: 4093 | L31: =IF(K31="","",VLOOKUP($K31,ベース!A:D,2,FALSE)) -> 縦型（高）出席簿用紙（乙） | N31: =IF(K31="","",VLOOKUP($K31,ベース!A:D,3,FALSE)) -> 66 | P31: =IF(K31="","",N31*O31) -> 0 | Q31: =IF(K31="","",VLOOKUP($K31,ベース!A:D,4,FALSE)) -> 週計・月計【左4穴】
B32: 1158 | C32: =IF(B32="","",VLOOKUP($B32,ベース!A:D,2,FALSE)) -> 学校歯科医執務記録簿 表紙（コンピュータ出力用） | D32: =IF(B32="","",VLOOKUP($B32,ベース!A:D,3,FALSE)) -> 531 | F32: =IF(B32="","",D32*E32) -> 0 | G32: =IF(B32="","",VLOOKUP($B32,ベース!A:D,4,FALSE)) -> 【左2穴】 | K32: 4094 | L32: =IF(K32="","",VLOOKUP($K32,ベース!A:D,2,FALSE)) -> 縦型 出席簿表紙（半クロス貼り） | N32: =IF(K32="","",VLOOKUP($K32,ベース!A:D,3,FALSE)) -> 1068 | P32: =IF(K32="","",N32*O32) -> 0 | Q32: =IF(K32="","",VLOOKUP($K32,ベース!A:D,4,FALSE)) -> 【左4穴】
B33: 1159 | C33: =IF(B33="","",VLOOKUP($B33,ベース!A:D,2,FALSE)) -> 学校薬剤師執務記録簿 表紙（コンピュータ出力用） | D33: =IF(B33="","",VLOOKUP($B33,ベース!A:D,3,FALSE)) -> 531 | F33: =IF(B33="","",D33*E33) -> 0 | G33: =IF(B33="","",VLOOKUP($B33,ベース!A:D,4,FALSE)) -> 【左2穴】 | K33: 4101 | L33: =IF(K33="","",VLOOKUP($K33,ベース!A:D,2,FALSE)) -> 生徒健康診断票（高） | N33: =IF(K33="","",VLOOKUP($K33,ベース!A:D,3,FALSE)) -> 64 | P33: =IF(K33="","",N33*O33) -> 0 | Q33: =IF(K33="","",VLOOKUP($K33,ベース!A:D,4,FALSE)) -> 【上2穴】
B34: 1160 | C34: =IF(B34="","",VLOOKUP($B34,ベース!A:D,2,FALSE)) -> 理科薬品関係受払簿（冊子） | D34: =IF(B34="","",VLOOKUP($B34,ベース!A:D,3,FALSE)) -> 2700 | F34: =IF(B34="","",D34*E34) -> 0 | G34: =IF(B34="","",VLOOKUP($B34,ベース!A:D,4,FALSE)) -> 記入例1枚・受払簿用紙50枚 点検一覧表4枚付 | K34: 4102 | L34: =IF(K34="","",VLOOKUP($K34,ベース!A:D,2,FALSE)) -> 同 表 紙（高） | N34: =IF(K34="","",VLOOKUP($K34,ベース!A:D,3,FALSE)) -> 493 | P34: =IF(K34="","",N34*O34) -> 0 | Q34: =IF(K34="","",VLOOKUP($K34,ベース!A:D,4,FALSE)) -> 記入例1枚・前付2枚付【上2穴】
B35: 1161 | C35: =IF(B35="","",VLOOKUP($B35,ベース!A:D,2,FALSE)) -> 理科薬品関係受払簿表紙 | D35: =IF(B35="","",VLOOKUP($B35,ベース!A:D,3,FALSE)) -> 531 | F35: =IF(B35="","",D35*E35) -> 0 | G35: =IF(B35="","",VLOOKUP($B35,ベース!A:D,4,FALSE)) -> 記入例1枚 【左2穴】 | K35: 4103 | L35: =IF(K35="","",VLOOKUP($K35,ベース!A:D,2,FALSE)) -> 生徒健康診断票前付（高） | N35: =IF(K35="","",VLOOKUP($K35,ベース!A:D,3,FALSE)) -> 25 | P35: =IF(K35="","",N35*O35) -> 0 | Q35: =IF(K35="","",VLOOKUP($K35,ベース!A:D,4,FALSE)) -> 【上2穴】
B36: 1161-2 | C36: =IF(B36="","",VLOOKUP($B36,ベース!A:D,2,FALSE)) -> 理科薬品関係点検一覧表用紙 | D36: =IF(B36="","",VLOOKUP($B36,ベース!A:D,3,FALSE)) -> 49 | F36: =IF(B36="","",D36*E36) -> 0 | G36: =IF(B36="","",VLOOKUP($B36,ベース!A:D,4,FALSE)) -> 【左2穴】 | K36: 4151 | L36: =IF(K36="","",VLOOKUP($K36,ベース!A:D,2,FALSE)) -> 同表紙（コンピュータ出力用） | N36: =IF(K36="","",VLOOKUP($K36,ベース!A:D,3,FALSE)) -> 493 | P36: =IF(K36="","",N36*O36) -> 0 | Q36: =IF(K36="","",VLOOKUP($K36,ベース!A:D,4,FALSE)) -> 記入例1枚・前付2枚付【左2穴】
B37: 1161-3 | C37: =IF(B37="","",VLOOKUP($B37,ベース!A:D,2,FALSE)) -> 理科薬品関係受払簿用紙 | D37: =IF(B37="","",VLOOKUP($B37,ベース!A:D,3,FALSE)) -> 49 | F37: =IF(B37="","",D37*E37) -> 0 | G37: =IF(B37="","",VLOOKUP($B37,ベース!A:D,4,FALSE)) -> 【左2穴】 | K37: 4109 | L37: =IF(K37="","",VLOOKUP($K37,ベース!A:D,2,FALSE)) -> 証明書交付台帳 | N37: =IF(K37="","",VLOOKUP($K37,ベース!A:D,3,FALSE)) -> 2208 | P37: =IF(K37="","",N37*O37) -> 0 | Q37: =IF(K37="","",VLOOKUP($K37,ベース!A:D,4,FALSE)) -> 0
C38: =IF(B38="","",VLOOKUP($B38,ベース!A:D,2,FALSE)) | D38: =IF(B38="","",VLOOKUP($B38,ベース!A:D,3,FALSE)) | F38: =IF(B38="","",D38*E38) | G38: =IF(B38="","",VLOOKUP($B38,ベース!A:D,4,FALSE)) | K38: 4107 | L38: =IF(K38="","",VLOOKUP($K38,ベース!A:D,2,FALSE)) -> 卒業証書台帳 | N38: =IF(K38="","",VLOOKUP($K38,ベース!A:D,3,FALSE)) -> 4581 | P38: =IF(K38="","",N38*O38) -> 0 | Q38: =IF(K38="","",VLOOKUP($K38,ベース!A:D,4,FALSE)) -> 100枚綴【左4穴】表紙・用紙セット
C39: =IF(B39="","",VLOOKUP($B39,ベース!A:D,2,FALSE)) | D39: =IF(B39="","",VLOOKUP($B39,ベース!A:D,3,FALSE)) | F39: =IF(B39="","",D39*E39) | G39: =IF(B39="","",VLOOKUP($B39,ベース!A:D,4,FALSE)) | K39: 4107-1 | L39: =IF(K39="","",VLOOKUP($K39,ベース!A:D,2,FALSE)) -> 同表紙 | N39: =IF(K39="","",VLOOKUP($K39,ベース!A:D,3,FALSE)) -> 2149 | P39: =IF(K39="","",N39*O39) -> 0 | Q39: =IF(K39="","",VLOOKUP($K39,ベース!A:D,4,FALSE)) -> 【左4穴】
